BEGIN:VCALENDAR
VERSION:2.0
PRODID:-//District Six Bridge - ECPv6.9.0//NONSGML v1.0//EN
CALSCALE:GREGORIAN
METHOD:PUBLISH
X-WR-CALNAME:District Six Bridge
X-ORIGINAL-URL:https://www.districtsixbridge.org
X-WR-CALDESC:Events for District Six Bridge
REFRESH-INTERVAL;VALUE=DURATION:PT1H
X-Robots-Tag:noindex
X-PUBLISHED-TTL:PT1H
BEGIN:VTIMEZONE
TZID:America/New_York
BEGIN:DAYLIGHT
TZOFFSETFROM:-0500
TZOFFSETTO:-0400
TZNAME:EDT
DTSTART:20220313T070000
END:DAYLIGHT
BEGIN:STANDARD
TZOFFSETFROM:-0400
TZOFFSETTO:-0500
TZNAME:EST
DTSTART:20221106T060000
END:STANDARD
BEGIN:DAYLIGHT
TZOFFSETFROM:-0500
TZOFFSETTO:-0400
TZNAME:EDT
DTSTART:20230312T070000
END:DAYLIGHT
BEGIN:STANDARD
TZOFFSETFROM:-0400
TZOFFSETTO:-0500
TZNAME:EST
DTSTART:20231105T060000
END:STANDARD
END:VTIMEZONE
BEGIN:VEVENT
DTSTART;VALUE=DATE:20230522
DTEND;VALUE=DATE:20230527
DTSTAMP:20260424T093734
CREATED:20220929T142420Z
LAST-MODIFIED:20230330T224916Z
UID:3811-1684713600-1685145599@www.districtsixbridge.org
SUMMARY:District 6 Richmond Regional
DESCRIPTION:
URL:https://www.districtsixbridge.org/tournament/richmond-memorial-day-regional-2/
LOCATION:DoubleTree Richmond-Midlothian\, 10800 Midlothian Turnpike\, Richmond\, VA\, 23235\, United States
CATEGORIES:Regionals
END:VEVENT
BEGIN:VEVENT
DTSTART;VALUE=DATE:20230508
DTEND;VALUE=DATE:20230515
DTSTAMP:20260424T093734
CREATED:20230114T182204Z
LAST-MODIFIED:20230114T182204Z
UID:4010-1683504000-1684108799@www.districtsixbridge.org
SUMMARY:District 6 Spring STaC
DESCRIPTION:
URL:https://www.districtsixbridge.org/tournament/district-6-spring-stac/
LOCATION:VA
CATEGORIES:STaCs
END:VEVENT
BEGIN:VEVENT
DTSTART;VALUE=DATE:20230428
DTEND;VALUE=DATE:20230501
DTSTAMP:20260424T093734
CREATED:20230113T210312Z
LAST-MODIFIED:20230201T153312Z
UID:3983-1682640000-1682899199@www.districtsixbridge.org
SUMMARY:Virginia Beach Spring Sectional
DESCRIPTION:
URL:https://www.districtsixbridge.org/tournament/virginia-beach-spring-sectional-3/
LOCATION:Unit 146 Bridge Center\, 4966 Euclid Road\, Virginia Beach\, VA\, 23462\, United States
CATEGORIES:Sectionals
END:VEVENT
BEGIN:VEVENT
DTSTART;VALUE=DATE:20230331
DTEND;VALUE=DATE:20230403
DTSTAMP:20260424T093734
CREATED:20230114T181751Z
LAST-MODIFIED:20230114T181751Z
UID:4006-1680220800-1680479999@www.districtsixbridge.org
SUMMARY:Lynchburg VA Sectional
DESCRIPTION:
URL:https://www.districtsixbridge.org/tournament/lynchburg-va-sectional/
LOCATION:American Legion Post 16\, 1301 Greenview Dr.\, Lynchburg\, VA\, 24502
CATEGORIES:Sectionals
END:VEVENT
BEGIN:VEVENT
DTSTART;VALUE=DATE:20230330
DTEND;VALUE=DATE:20230403
DTSTAMP:20260424T093734
CREATED:20220620T205928Z
LAST-MODIFIED:20220620T205928Z
UID:3669-1680134400-1680479999@www.districtsixbridge.org
SUMMARY:NVBA Spring Sectional
DESCRIPTION:
URL:https://www.districtsixbridge.org/tournament/nvba-spring-sectional-4/
LOCATION:Fairfax Elks Lodge\, 8421 Arlington Boulevard\, Fairfax\, VA\, 22031\, United States
CATEGORIES:Sectionals
END:VEVENT
BEGIN:VEVENT
DTSTART;VALUE=DATE:20230310
DTEND;VALUE=DATE:20230313
DTSTAMP:20260424T093734
CREATED:20230114T181404Z
LAST-MODIFIED:20230206T235920Z
UID:4003-1678406400-1678665599@www.districtsixbridge.org
SUMMARY:St. Patrick's Day Sectional
DESCRIPTION:
URL:https://www.districtsixbridge.org/tournament/st-patricks-day-sectional-2/
LOCATION:Holiday Inn Conference Center – Roanoke Airport\, 3315 Ordway Dr. NW\, Roanoke\, VA\, 24017
CATEGORIES:Sectionals
END:VEVENT
BEGIN:VEVENT
DTSTART;VALUE=DATE:20230303
DTEND;VALUE=DATE:20230306
DTSTAMP:20260424T093734
CREATED:20230114T180950Z
LAST-MODIFIED:20230217T034412Z
UID:4001-1677801600-1678060799@www.districtsixbridge.org
SUMMARY:Jefferson Bridge Sectional
DESCRIPTION:
URL:https://www.districtsixbridge.org/tournament/jefferson-bridge-sectional/
LOCATION:East Rivanna Firehouse & Banquet Hall\, 3501 Steamer Drive\, Keswick\, VA\, 22947
CATEGORIES:Sectionals
END:VEVENT
BEGIN:VEVENT
DTSTART;VALUE=DATE:20230216
DTEND;VALUE=DATE:20230220
DTSTAMP:20260424T093734
CREATED:20221230T231059Z
LAST-MODIFIED:20221230T231059Z
UID:3950-1676505600-1676851199@www.districtsixbridge.org
SUMMARY:NVBA Winter Sectional
DESCRIPTION:
URL:https://www.districtsixbridge.org/tournament/nvba-winter-sectional-3/
LOCATION:Fairfax Elks Lodge\, 8421 Arlington Boulevard\, Fairfax\, VA\, 22031\, United States
CATEGORIES:Sectionals
END:VEVENT
BEGIN:VEVENT
DTSTART;VALUE=DATE:20230216
DTEND;VALUE=DATE:20230220
DTSTAMP:20260424T093734
CREATED:20220620T205722Z
LAST-MODIFIED:20220620T205722Z
UID:3667-1676505600-1676851199@www.districtsixbridge.org
SUMMARY:NVBA Winter Sectional
DESCRIPTION:
URL:https://www.districtsixbridge.org/tournament/nvba-winter-sectional-2/
LOCATION:Fairfax Elks Lodge\, 8421 Arlington Boulevard\, Fairfax\, VA\, 22031\, United States
CATEGORIES:Sectionals
END:VEVENT
BEGIN:VEVENT
DTSTART;VALUE=DATE:20230210
DTEND;VALUE=DATE:20230213
DTSTAMP:20260424T093734
CREATED:20221230T225831Z
LAST-MODIFIED:20221230T225831Z
UID:3944-1675987200-1676246399@www.districtsixbridge.org
SUMMARY:Super Bowl Sectional
DESCRIPTION:
URL:https://www.districtsixbridge.org/tournament/super-bowl-sectional/
LOCATION:Immanuel Christ Church\, 1905 Edmondson Ave\, Catonsville\, MD\, 21228
CATEGORIES:Sectionals
END:VEVENT
BEGIN:VEVENT
DTSTART;VALUE=DATE:20230127
DTEND;VALUE=DATE:20230130
DTSTAMP:20260424T093734
CREATED:20230113T210035Z
LAST-MODIFIED:20230118T200838Z
UID:3980-1674777600-1675036799@www.districtsixbridge.org
SUMMARY:Virginia Beach Winter Sectional
DESCRIPTION:
URL:https://www.districtsixbridge.org/tournament/virginia-beach-winter-sectional-2/
LOCATION:Unit 146 Bridge Center\, 4966 Euclid Road\, Virginia Beach\, VA\, 23462\, United States
CATEGORIES:Sectionals
END:VEVENT
BEGIN:VEVENT
DTSTART;TZID=America/New_York:20230113T080000
DTEND;TZID=America/New_York:20230115T170000
DTSTAMP:20260424T093734
CREATED:20230113T205809Z
LAST-MODIFIED:20230113T205809Z
UID:3978-1673596800-1673802000@www.districtsixbridge.org
SUMMARY:Richmond Winter Sectional
DESCRIPTION:
URL:https://www.districtsixbridge.org/tournament/richmond-winter-sectional-2/
LOCATION:Guzman Community Center at the Faison Center 5200 Fitzhugh Ave.\, Richmond VA 23230\, 5200 Fitzhugh Ave\, Richmond\, VA\, 23230\, United States
CATEGORIES:Sectionals
END:VEVENT
BEGIN:VEVENT
DTSTART;VALUE=DATE:20230107
DTEND;VALUE=DATE:20230109
DTSTAMP:20260424T093734
CREATED:20221230T230326Z
LAST-MODIFIED:20221230T230721Z
UID:3947-1673049600-1673222399@www.districtsixbridge.org
SUMMARY:District 6 Grand National Teams (GNT) Competition - Championship (Open) Flight
DESCRIPTION:
URL:https://www.districtsixbridge.org/tournament/district-6-grand-national-teams-gnt-competition-championship-open-flight/
LOCATION:Capitol View – Homewood Park\, 2929 Edgewood Rd\, Kensington\, MD\, 20895\, United States
CATEGORIES:GNT Finals
END:VEVENT
BEGIN:VEVENT
DTSTART;VALUE=DATE:20221205
DTEND;VALUE=DATE:20221212
DTSTAMP:20260424T093734
CREATED:20220715T195109Z
LAST-MODIFIED:20221013T211525Z
UID:3713-1670198400-1670803199@www.districtsixbridge.org
SUMMARY:District 6 STaC
DESCRIPTION:
URL:https://www.districtsixbridge.org/tournament/district-6-stac-3/
LOCATION:All Clubs
CATEGORIES:STaCs
END:VEVENT
BEGIN:VEVENT
DTSTART;VALUE=DATE:20221104
DTEND;VALUE=DATE:20221107
DTSTAMP:20260424T093734
CREATED:20220715T194756Z
LAST-MODIFIED:20221013T211424Z
UID:3710-1667520000-1667779199@www.districtsixbridge.org
SUMMARY:Williamsburg Fall Sectional
DESCRIPTION:
URL:https://www.districtsixbridge.org/tournament/williamsburg-fall-sectional-3/
LOCATION:Legacy Hall\, 4301 New Town Ave\, Williamsburg\, VA\, 23188
CATEGORIES:Sectionals
END:VEVENT
BEGIN:VEVENT
DTSTART;VALUE=DATE:20221021
DTEND;VALUE=DATE:20221024
DTSTAMP:20260424T093734
CREATED:20220423T194224Z
LAST-MODIFIED:20220423T194224Z
UID:3447-1666310400-1666569599@www.districtsixbridge.org
SUMMARY:Virginia Beach Fall Sectional
DESCRIPTION:
URL:https://www.districtsixbridge.org/tournament/virginia-beach-fall-sectional-2/
LOCATION:Unit 146 Bridge Center\, 4966 Euclid Road\, Virginia Beach\, VA\, 23462\, United States
CATEGORIES:Sectionals
END:VEVENT
BEGIN:VEVENT
DTSTART;VALUE=DATE:20221017
DTEND;VALUE=DATE:20221024
DTSTAMP:20260424T093734
CREATED:20220925T140008Z
LAST-MODIFIED:20220925T140008Z
UID:3809-1665964800-1666569599@www.districtsixbridge.org
SUMMARY:Royal STaC - D6/D12/D13/D14
DESCRIPTION:
URL:https://www.districtsixbridge.org/tournament/royal-stac-d6-d12-d13-d14/
LOCATION:VA
CATEGORIES:STaCs
END:VEVENT
BEGIN:VEVENT
DTSTART;VALUE=DATE:20221007
DTEND;VALUE=DATE:20221010
DTSTAMP:20260424T093734
CREATED:20220923T122325Z
LAST-MODIFIED:20220929T141845Z
UID:3800-1665100800-1665359999@www.districtsixbridge.org
SUMMARY:Richmond Bridge Fall Sectional
DESCRIPTION:Separate\, NLM 0-300 games both Friday & Saturday\n  \nFriday\, October 7 – Newcomer Lecture                                                  9:45 a.m.\nNLM 0-300 game and Stratified Open Pairs (750/2500/2500+)                                       10:30 a.m. / 3:00 p.m.  \n  \nSaturday\, October 8 – Newcomer Lecture                                             9:45 a.m.\nNLM 0-300 game and Stratified Open Pairs (750/2500/2500+)                                        10:30 a.m.  \nStratified Pairs/Board-a-Match Teams                                                                                   3:00 p.m. \nOpen stratified pairs game. For the same game\, each pair is teamed according to Master Points (highest to lowest). Two Chances to Win!!! \n  \nSunday\, October 9- Free coffee\, bagels\, snacks\, and donuts\nStratified Open Swiss and under 500 Swiss Teams                                                              10:30 a.m. \nPlay through\, lunch served between sessions.  \nProof of Vaccination Required
URL:https://www.districtsixbridge.org/tournament/richmond-bridge-fall-sectional/
LOCATION:Guzman Community Center at the Faison Center 5200 Fitzhugh Ave.\, Richmond VA 23230\, 5200 Fitzhugh Ave\, Richmond\, VA\, 23230\, United States
CATEGORIES:Sectionals
END:VEVENT
BEGIN:VEVENT
DTSTART;VALUE=DATE:20220929
DTEND;VALUE=DATE:20221003
DTSTAMP:20260424T093734
CREATED:20220609T212531Z
LAST-MODIFIED:20220609T212531Z
UID:3643-1664409600-1664755199@www.districtsixbridge.org
SUMMARY:WBL - 90th Annual DC Championships
DESCRIPTION:
URL:https://www.districtsixbridge.org/tournament/wbl-90th-annual-dc-championships/
LOCATION:Margaret Schweinhaut Senior Center\, 1000 Forest Glen Rd\, Silver Spring\, MD\, 20901\, United States
CATEGORIES:Sectionals
END:VEVENT
BEGIN:VEVENT
DTSTART;TZID=America/New_York:20220908T080000
DTEND;TZID=America/New_York:20220911T170000
DTSTAMP:20260424T093734
CREATED:20210701T022409Z
LAST-MODIFIED:20210701T022409Z
UID:2519-1662624000-1662915600@www.districtsixbridge.org
SUMMARY:NVBA September Sensations Sectional
DESCRIPTION:
URL:https://www.districtsixbridge.org/tournament/nvba-september-sensations-sectional-3/
LOCATION:Fairfax Elks Lodge\, 8421 Arlington Boulevard\, Fairfax\, VA\, 22031\, United States
CATEGORIES:Sectionals
END:VEVENT
BEGIN:VEVENT
DTSTART;VALUE=DATE:20220822
DTEND;VALUE=DATE:20220829
DTSTAMP:20260424T093734
CREATED:20220524T224147Z
LAST-MODIFIED:20220817T130017Z
UID:3501-1661126400-1661731199@www.districtsixbridge.org
SUMMARY:Baltimore Regional
DESCRIPTION:Hilton Baltimore Inner Harbor\n401 West Pratt Street\, Baltimore\, Maryland 21201\nNew D6 site in a vibrant area next to the iconic Camden Yards ballpark\,\na short stroll to the thriving waterfront of the Inner Harbor\, full of pubs\,\nrestaurants\, and lively entertainment. \nNOTICE: Baltimore Regional hotel reservations  \nThe hotel is NOT accepting phone reservations for the bridge rate. Click HERE to book online at the bridge rate. \n  \nNovice & Intermediate program:\n• Bridge University Monday a.m.\n• Daily guest lectures\n• Gold point games every day \n** 0-20 MP players FREE Tuesday\, August 23 ** \n  \nACBL and local Covid protocols will be followed.\nRegional will be cashless – bring your plastic!\nwww.districtsixbridge.org – for full details \nBaltimore Regional 2022 Flyer \nBaltimore 2022 FLYER Insert \nBaltimore 2022 I/N Flyer \nBaltimore Website ENTRIES \nBaltimore Website Parking        Baltimore Website Ballroom Layout \nBaltimore Website Covid Policy         Baltimore Website Orioles schedule
URL:https://www.districtsixbridge.org/tournament/baltimore-regional-august-22-28-2022/
LOCATION:Baltimore Inner Harbor Hilton
CATEGORIES:Regionals
END:VEVENT
BEGIN:VEVENT
DTSTART;VALUE=DATE:20220729
DTEND;VALUE=DATE:20220801
DTSTAMP:20260424T093734
CREATED:20220423T194104Z
LAST-MODIFIED:20220614T133206Z
UID:3445-1659052800-1659311999@www.districtsixbridge.org
SUMMARY:Virginia Beach Summer Sectional
DESCRIPTION:
URL:https://www.districtsixbridge.org/tournament/virginia-beach-summer-sectional-2/
LOCATION:Unit 146 Bridge Center\, 4966 Euclid Road\, Virginia Beach\, VA\, 23462\, United States
CATEGORIES:Sectionals
END:VEVENT
BEGIN:VEVENT
DTSTART;VALUE=DATE:20220708
DTEND;VALUE=DATE:20220711
DTSTAMP:20260424T093734
CREATED:20220424T181541Z
LAST-MODIFIED:20220525T224428Z
UID:3453-1657238400-1657497599@www.districtsixbridge.org
SUMMARY:Mr. Jefferson's Sectional - Charlottesville\, VA area
DESCRIPTION:ACBL UNIT 139 Presents…..\nMR. JEFFERSON’S SECTIONAL\nKESWICK\, VA\nJuly 8-10\, 2022 \nFriday\, July 8\n10:30 AM Stratified Open Pairs; Separate 199ers\n40% more masterpoints helps fund GNTs & NAPs \n3:30 PM Stratified Open Pairs; Separate 199 \n  \nSaturday\, July 9  \n10:30 AM Stratified Open Pairs; Separate 199ers\n40% more masterpoints helps fund GNTs & NAPs \n3:30 PM Stratified Open Pairs; Separate 199ers \nSunday\, July 10\n10:30 AM & TBA Stratified Swiss Teams\nLunch provided \n$12 per person entry fee; $9 for 0-20; $100/team includes lunch\n$4 additional per person for unpaid ACBL members; Non-members must join. \nAll Stratifications by average masterpoints – no individual may exceed the event’s upper limit \nFriday and Saturday Stratifications: 0-750\, 750-2000\, 2000+ plus 199ers \nProof of Vaccination Required. Mask requirement will follow ACBL &\nCounty guidelines at the time of tournament \nPlaying Site:\nEast Rivanna Firehouse and Banquet Hall\n3501 Steamer Drive\nKeswick\, VA 22947
URL:https://www.districtsixbridge.org/tournament/mr-jeffersons-sectional-charlottesville-va-area/
LOCATION:East Rivanna Firehouse & Banquet Hall\, 3501 Steamer Drive\, Keswick\, VA\, 22947
CATEGORIES:Sectionals
END:VEVENT
BEGIN:VEVENT
DTSTART;VALUE=DATE:20220613
DTEND;VALUE=DATE:20220620
DTSTAMP:20260424T093734
CREATED:20220423T194503Z
LAST-MODIFIED:20220423T194503Z
UID:3449-1655078400-1655683199@www.districtsixbridge.org
SUMMARY:District 6 Summer STaC
DESCRIPTION:
URL:https://www.districtsixbridge.org/tournament/district-6-summer-stac/
LOCATION:All Clubs
CATEGORIES:STaCs
END:VEVENT
BEGIN:VEVENT
DTSTART;VALUE=DATE:20220512
DTEND;VALUE=DATE:20220516
DTSTAMP:20260424T093734
CREATED:20210701T022157Z
LAST-MODIFIED:20210701T022157Z
UID:2517-1652313600-1652659199@www.districtsixbridge.org
SUMMARY:NVBA Spring Sectional
DESCRIPTION:
URL:https://www.districtsixbridge.org/tournament/nvba-spring-sectional-3/
LOCATION:Fairfax Elks Lodge\, 8421 Arlington Boulevard\, Fairfax\, VA\, 22031\, United States
CATEGORIES:Sectionals
END:VEVENT
BEGIN:VEVENT
DTSTART;TZID=America/New_York:20220507T080000
DTEND;TZID=America/New_York:20220508T170000
DTSTAMP:20260424T093734
CREATED:20220303T160311Z
LAST-MODIFIED:20220303T160311Z
UID:3421-1651910400-1652029200@www.districtsixbridge.org
SUMMARY:GNT Open Flight 2nd Weekend
DESCRIPTION:
URL:https://www.districtsixbridge.org/tournament/gnt-open-flight-2nd-weekend/
LOCATION:VA
END:VEVENT
BEGIN:VEVENT
DTSTART;TZID=America/New_York:20220501T080000
DTEND;TZID=America/New_York:20220501T170000
DTSTAMP:20260424T093734
CREATED:20220303T160237Z
LAST-MODIFIED:20220303T160237Z
UID:3419-1651392000-1651424400@www.districtsixbridge.org
SUMMARY:GNT Flight C 2nd Weekend
DESCRIPTION:
URL:https://www.districtsixbridge.org/tournament/gnt-flight-c-2nd-weekend/
LOCATION:VA
CATEGORIES:GNT Finals
END:VEVENT
BEGIN:VEVENT
DTSTART;TZID=America/New_York:20220430T080000
DTEND;TZID=America/New_York:20220501T170000
DTSTAMP:20260424T093734
CREATED:20220303T160207Z
LAST-MODIFIED:20220303T160207Z
UID:3417-1651305600-1651424400@www.districtsixbridge.org
SUMMARY:GNT Flight B 2nd Weekend
DESCRIPTION:
URL:https://www.districtsixbridge.org/tournament/gnt-flight-b-2nd-weekend/
LOCATION:VA
CATEGORIES:GNT Finals
END:VEVENT
BEGIN:VEVENT
DTSTART;VALUE=DATE:20220422
DTEND;VALUE=DATE:20220425
DTSTAMP:20260424T093734
CREATED:20220423T193858Z
LAST-MODIFIED:20220423T193858Z
UID:3443-1650585600-1650844799@www.districtsixbridge.org
SUMMARY:Virginia Beach Spring Sectional
DESCRIPTION:
URL:https://www.districtsixbridge.org/tournament/virginia-beach-spring-sectional-2/
LOCATION:Unit 146 Bridge Center\, 4966 Euclid Road\, Virginia Beach\, VA\, 23462\, United States
CATEGORIES:Sectionals
END:VEVENT
BEGIN:VEVENT
DTSTART;TZID=America/New_York:20220411T080000
DTEND;TZID=America/New_York:20220417T170000
DTSTAMP:20260424T093734
CREATED:20220303T155610Z
LAST-MODIFIED:20220303T155610Z
UID:3412-1649664000-1650214800@www.districtsixbridge.org
SUMMARY:District 6/District 12/District 14 Royal STaC
DESCRIPTION:
URL:https://www.districtsixbridge.org/tournament/district-6-district-12-district-14-royal-stac/
LOCATION:All Clubs
CATEGORIES:STaCs
END:VEVENT
END:VCALENDAR