BEGIN:VCALENDAR
VERSION:2.0
PRODID:-//District Six Bridge - ECPv6.9.0//NONSGML v1.0//EN
CALSCALE:GREGORIAN
METHOD:PUBLISH
X-WR-CALNAME:District Six Bridge
X-ORIGINAL-URL:https://www.districtsixbridge.org
X-WR-CALDESC:Events for District Six Bridge
REFRESH-INTERVAL;VALUE=DURATION:PT1H
X-Robots-Tag:noindex
X-PUBLISHED-TTL:PT1H
BEGIN:VTIMEZONE
TZID:America/New_York
BEGIN:DAYLIGHT
TZOFFSETFROM:-0500
TZOFFSETTO:-0400
TZNAME:EDT
DTSTART:20240310T070000
END:DAYLIGHT
BEGIN:STANDARD
TZOFFSETFROM:-0400
TZOFFSETTO:-0500
TZNAME:EST
DTSTART:20241103T060000
END:STANDARD
BEGIN:DAYLIGHT
TZOFFSETFROM:-0500
TZOFFSETTO:-0400
TZNAME:EDT
DTSTART:20250309T070000
END:DAYLIGHT
BEGIN:STANDARD
TZOFFSETFROM:-0400
TZOFFSETTO:-0500
TZNAME:EST
DTSTART:20251102T060000
END:STANDARD
END:VTIMEZONE
BEGIN:VEVENT
DTSTART;VALUE=DATE:20250529
DTEND;VALUE=DATE:20250602
DTSTAMP:20260423T182946
CREATED:20241030T210203Z
LAST-MODIFIED:20241030T210233Z
UID:5044-1748476800-1748822399@www.districtsixbridge.org
SUMMARY:NVBA Spring Sectional
DESCRIPTION:
URL:https://www.districtsixbridge.org/tournament/nvba-spring-sectional-6/
LOCATION:Fairfax Elks Lodge\, 8421 Arlington Boulevard\, Fairfax\, VA\, 22031\, United States
CATEGORIES:Sectionals
END:VEVENT
BEGIN:VEVENT
DTSTART;VALUE=DATE:20250519
DTEND;VALUE=DATE:20250524
DTSTAMP:20260423T182946
CREATED:20250116T162006Z
LAST-MODIFIED:20250124T143308Z
UID:5103-1747612800-1748044799@www.districtsixbridge.org
SUMMARY:Richmond Regional
DESCRIPTION:
URL:https://www.districtsixbridge.org/tournament/richmond-regional/
LOCATION:DoubleTree Richmond-Midlothian\, 10800 Midlothian Turnpike\, Richmond\, VA\, 23235\, United States
CATEGORIES:Regionals
END:VEVENT
BEGIN:VEVENT
DTSTART;VALUE=DATE:20250508
DTEND;VALUE=DATE:20250511
DTSTAMP:20260423T182946
CREATED:20241030T205952Z
LAST-MODIFIED:20241030T210026Z
UID:5042-1746662400-1746921599@www.districtsixbridge.org
SUMMARY:Williamsburg Spring Sectional
DESCRIPTION:
URL:https://www.districtsixbridge.org/tournament/williamsburg-spring-sectional/
LOCATION:King of Glory Lutheran Church\, 4897 Longhill Rd\, Williamsburg\, VA\, 23188\, United States
CATEGORIES:Sectionals
END:VEVENT
BEGIN:VEVENT
DTSTART;VALUE=DATE:20250411
DTEND;VALUE=DATE:20250414
DTSTAMP:20260423T182946
CREATED:20241030T203947Z
LAST-MODIFIED:20241030T203947Z
UID:5031-1744329600-1744588799@www.districtsixbridge.org
SUMMARY:Jefferson Bridge Sectional
DESCRIPTION:
URL:https://www.districtsixbridge.org/tournament/jefferson-bridge-sectional-3/
LOCATION:East Rivanna Firehouse & Banquet Hall\, 3501 Steamer Drive\, Keswick\, VA\, 22947
CATEGORIES:Sectionals
END:VEVENT
BEGIN:VEVENT
DTSTART;VALUE=DATE:20250403
DTEND;VALUE=DATE:20250407
DTSTAMP:20260423T182946
CREATED:20241030T203757Z
LAST-MODIFIED:20241030T203757Z
UID:5028-1743638400-1743983999@www.districtsixbridge.org
SUMMARY:75th Annual City of Washington Sectional
DESCRIPTION:Silver
URL:https://www.districtsixbridge.org/tournament/75th-annual-city-of-washington-sectional/
LOCATION:Silver Spring Civic Bldg\, 8525 Fenton St.\, Silver Spring\, MD\, 20910\, United States
CATEGORIES:Sectionals
END:VEVENT
BEGIN:VEVENT
DTSTART;VALUE=DATE:20250328
DTEND;VALUE=DATE:20250331
DTSTAMP:20260423T182946
CREATED:20241010T224851Z
LAST-MODIFIED:20241010T224851Z
UID:5016-1743120000-1743379199@www.districtsixbridge.org
SUMMARY:Lynchburg Sectional
DESCRIPTION:
URL:https://www.districtsixbridge.org/tournament/lynchburg-sectional-3/
LOCATION:American Legion Post 16\, 1301 Greenview Dr.\, Lynchburg\, VA\, 24502
CATEGORIES:Sectionals
END:VEVENT
BEGIN:VEVENT
DTSTART;VALUE=DATE:20250314
DTEND;VALUE=DATE:20250317
DTSTAMP:20260423T182946
CREATED:20241030T205532Z
LAST-MODIFIED:20241030T205532Z
UID:5039-1741910400-1742169599@www.districtsixbridge.org
SUMMARY:St. Patrick's Day Sectional
DESCRIPTION:
URL:https://www.districtsixbridge.org/tournament/st-patricks-day-sectional-4/
LOCATION:Holiday Inn Conference Center – Fredericksburg\, 20 Sanford Dr.\, Fredericksburg\, VA\, 22406\, United States
CATEGORIES:Sectionals
END:VEVENT
BEGIN:VEVENT
DTSTART;VALUE=DATE:20250220
DTEND;VALUE=DATE:20250224
DTSTAMP:20260423T182946
CREATED:20241010T224548Z
LAST-MODIFIED:20241010T224548Z
UID:5014-1740009600-1740355199@www.districtsixbridge.org
SUMMARY:NVBA Winter Sectional
DESCRIPTION:
URL:https://www.districtsixbridge.org/tournament/nvba-winter-sectional-5/
LOCATION:Fairfax Elks Lodge\, 8421 Arlington Boulevard\, Fairfax\, VA\, 22031\, United States
CATEGORIES:Sectionals
END:VEVENT
BEGIN:VEVENT
DTSTART;VALUE=DATE:20250207
DTEND;VALUE=DATE:20250210
DTSTAMP:20260423T182946
CREATED:20241010T225159Z
LAST-MODIFIED:20250114T200520Z
UID:5018-1738886400-1739145599@www.districtsixbridge.org
SUMMARY:Baltimore Super Bowl Sectional
DESCRIPTION:
URL:https://www.districtsixbridge.org/tournament/baltimore-super-bowl-sectional-2/
LOCATION:Immanuel United Church of Christ\, 1905 Edmondson Ave\, Catonsville\, MD\, 21228\, United States
CATEGORIES:Sectionals
END:VEVENT
BEGIN:VEVENT
DTSTART;VALUE=DATE:20250124
DTEND;VALUE=DATE:20250127
DTSTAMP:20260423T182946
CREATED:20241030T205127Z
LAST-MODIFIED:20250114T195814Z
UID:5036-1737676800-1737935999@www.districtsixbridge.org
SUMMARY:Virginia Beach Winter Sectional
DESCRIPTION:
URL:https://www.districtsixbridge.org/tournament/virginia-beach-winter-sectional-3/
LOCATION:Unit 146 Bnit\, 4966 Euclid Road\, Virginia Beach\, Vir\, 23462\, United States
CATEGORIES:Sectionals
END:VEVENT
BEGIN:VEVENT
DTSTART;TZID=America/New_York:20250109T080000
DTEND;TZID=America/New_York:20250112T170000
DTSTAMP:20260423T182946
CREATED:20241010T223532Z
LAST-MODIFIED:20241010T223532Z
UID:5012-1736409600-1736701200@www.districtsixbridge.org
SUMMARY:60th Annual Presidential Sectional Tournament
DESCRIPTION:
URL:https://www.districtsixbridge.org/tournament/60th-annual-presidential-sectional-tournament/
LOCATION:Margaret Schweinhaut Senior Center\, 1000 Forest Glen Rd\, Silver Spring\, MD\, 20901\, United States
CATEGORIES:Sectionals
END:VEVENT
BEGIN:VEVENT
DTSTART;VALUE=DATE:20241209
DTEND;VALUE=DATE:20241216
DTSTAMP:20260423T182946
CREATED:20240203T112706Z
LAST-MODIFIED:20240203T112706Z
UID:4662-1733702400-1734307199@www.districtsixbridge.org
SUMMARY:District Six STAC
DESCRIPTION:
URL:https://www.districtsixbridge.org/tournament/district-six-stac-4/
CATEGORIES:STaCs
END:VEVENT
BEGIN:VEVENT
DTSTART;VALUE=DATE:20241122
DTEND;VALUE=DATE:20241125
DTSTAMP:20260423T182946
CREATED:20240705T225234Z
LAST-MODIFIED:20240820T205622Z
UID:4951-1732233600-1732492799@www.districtsixbridge.org
SUMMARY:Charlottesville Winter Sectional
DESCRIPTION:
URL:https://www.districtsixbridge.org/tournament/charlottesville-winter-sectional/
LOCATION:East Rivanna Firehouse & Banquet Hall\, 3501 Steamer Drive\, Keswick\, VA\, 22947
END:VEVENT
BEGIN:VEVENT
DTSTART;VALUE=DATE:20241031
DTEND;VALUE=DATE:20241103
DTSTAMP:20260423T182946
CREATED:20241030T204454Z
LAST-MODIFIED:20241030T204454Z
UID:5033-1730332800-1730591999@www.districtsixbridge.org
SUMMARY:Williamsburg Fall Sectional
DESCRIPTION:
URL:https://www.districtsixbridge.org/tournament/williamsburg-fall-sectional-5/
LOCATION:King of Glory Lutheran Church\, 4897 Longhill Rd\, Williamsburg\, VA\, 23188\, United States
CATEGORIES:Sectionals
END:VEVENT
BEGIN:VEVENT
DTSTART;VALUE=DATE:20241025
DTEND;VALUE=DATE:20241028
DTSTAMP:20260423T182946
CREATED:20240325T201623Z
LAST-MODIFIED:20240325T201623Z
UID:4729-1729814400-1730073599@www.districtsixbridge.org
SUMMARY:Star City Sectional
DESCRIPTION:
URL:https://www.districtsixbridge.org/tournament/star-city-sectional/
LOCATION:Holiday Inn Conference Center – Roanoke Airport\, 3315 Ordway Dr. NW\, Roanoke\, VA\, 24017
CATEGORIES:Sectionals
END:VEVENT
BEGIN:VEVENT
DTSTART;VALUE=DATE:20241018
DTEND;VALUE=DATE:20241021
DTSTAMP:20260423T182946
CREATED:20230912T190934Z
LAST-MODIFIED:20230912T190934Z
UID:4336-1729209600-1729468799@www.districtsixbridge.org
SUMMARY:Virginia Beach Fall Local Sectional
DESCRIPTION:
URL:https://www.districtsixbridge.org/tournament/virginia-beach-fall-local-sectional/
LOCATION:Unit 146 Bridge Center\, 4966 Euclid Road\, Virginia Beach\, VA\, 23462\, United States
CATEGORIES:Sectionals
END:VEVENT
BEGIN:VEVENT
DTSTART;VALUE=DATE:20241017
DTEND;VALUE=DATE:20241021
DTSTAMP:20260423T182946
CREATED:20230912T191622Z
LAST-MODIFIED:20230912T191622Z
UID:4344-1729123200-1729468799@www.districtsixbridge.org
SUMMARY:92nd Annual DC Championships
DESCRIPTION:
URL:https://www.districtsixbridge.org/tournament/92nd-annual-dc-championships/
LOCATION:Margaret Schweinhaut Senior Center\, 1000 Forest Glen Rd\, Silver Spring\, MD\, 20901\, United States
CATEGORIES:Sectionals
END:VEVENT
BEGIN:VEVENT
DTSTART;VALUE=DATE:20241004
DTEND;VALUE=DATE:20241007
DTSTAMP:20260423T182946
CREATED:20240211T195702Z
LAST-MODIFIED:20240211T195933Z
UID:4686-1728000000-1728259199@www.districtsixbridge.org
SUMMARY:Richmond Fall Sectional
DESCRIPTION:
URL:https://www.districtsixbridge.org/tournament/richmond-fall-sectional-2/
LOCATION:Guzman Community Center at the Faison Center 5200 Fitzhugh Ave.\, Richmond VA 23230\, 5200 Fitzhugh Ave\, Richmond\, VA\, 23230\, United States
CATEGORIES:Sectionals
END:VEVENT
BEGIN:VEVENT
DTSTART;VALUE=DATE:20240916
DTEND;VALUE=DATE:20240923
DTSTAMP:20260423T182946
CREATED:20240203T112600Z
LAST-MODIFIED:20240203T112600Z
UID:4660-1726444800-1727049599@www.districtsixbridge.org
SUMMARY:District Six STAC
DESCRIPTION:
URL:https://www.districtsixbridge.org/tournament/district-six-stac-3/
CATEGORIES:STaCs
END:VEVENT
BEGIN:VEVENT
DTSTART;VALUE=DATE:20240912
DTEND;VALUE=DATE:20240916
DTSTAMP:20260423T182946
CREATED:20240705T225615Z
LAST-MODIFIED:20240705T225615Z
UID:4953-1726099200-1726444799@www.districtsixbridge.org
SUMMARY:NVBA Fall Sectional
DESCRIPTION:
URL:https://www.districtsixbridge.org/tournament/nvba-fall-sectional-3/
LOCATION:Fairfax Elks Lodge\, 8421 Arlington Boulevard\, Fairfax\, VA\, 22031\, United States
END:VEVENT
BEGIN:VEVENT
DTSTART;VALUE=DATE:20240819
DTEND;VALUE=DATE:20240826
DTSTAMP:20260423T182946
CREATED:20230903T143133Z
LAST-MODIFIED:20240815T003414Z
UID:4324-1724025600-1724630399@www.districtsixbridge.org
SUMMARY:Baltimore Regional
DESCRIPTION:Baltimore2024Flyer_2-sided \nBulletin Baltimore 2024 FINAL \nBaltimore 2024 I_N flyer FINAL \nBaltimore Parking at the Hilton \nBaltimore 2024 Restaurants Inner Harbor \nBaltimore2024Insert \n  \n\nSponsor:
URL:https://www.districtsixbridge.org/tournament/baltimore-regional/
LOCATION:Baltimore Inner Harbor Hilton
CATEGORIES:Regionals
END:VEVENT
BEGIN:VEVENT
DTSTART;VALUE=DATE:20240809
DTEND;VALUE=DATE:20240812
DTSTAMP:20260423T182946
CREATED:20240325T200627Z
LAST-MODIFIED:20240705T224629Z
UID:4725-1723161600-1723420799@www.districtsixbridge.org
SUMMARY:Mr. Jefferson Sectional
DESCRIPTION:
URL:https://www.districtsixbridge.org/tournament/mr-jefferson-sectional-3/
LOCATION:East Rivanna Firehouse & Banquet Hall\, 3501 Steamer Drive\, Keswick\, VA\, 22947
CATEGORIES:Sectionals
END:VEVENT
BEGIN:VEVENT
DTSTART;VALUE=DATE:20240712
DTEND;VALUE=DATE:20240715
DTSTAMP:20260423T182946
CREATED:20230912T191908Z
LAST-MODIFIED:20240211T200925Z
UID:4348-1720742400-1721001599@www.districtsixbridge.org
SUMMARY:Virginia Beach Summer Sectional
DESCRIPTION:
URL:https://www.districtsixbridge.org/tournament/virginia-beach-summer-sectional-4/
LOCATION:Unit 146 Bridge Center\, 4966 Euclid Road\, Virginia Beach\, VA\, 23462\, United States
CATEGORIES:Sectionals
END:VEVENT
BEGIN:VEVENT
DTSTART;VALUE=DATE:20240701
DTEND;VALUE=DATE:20240707
DTSTAMP:20260423T182946
CREATED:20240614T225329Z
LAST-MODIFIED:20240617T003034Z
UID:4909-1719792000-1720310399@www.districtsixbridge.org
SUMMARY:Reston 4th of July Regional
DESCRIPTION:Welcome Back to the Reston Regional\nWe look forward to seeing you in Reston for this regional tournament. If you have any questions or need help with anything please\, just ask and we will do our best to help. You can reach us by email\,  text\, or call our cell phone.\nMarty and Ross Bley\nReston 2024 Bulletin \nReston 2024 Intermediate/Novice Flyer \n2024 Online Flyer \nRestaurants Near the Hotel in Reston
URL:https://www.districtsixbridge.org/tournament/reston-4th-of-july-regional/
LOCATION:Hyatt Regency at Reston Town Center\, 1800 Presidents St.\, Reston\, VA\, 20190\, United States
CATEGORIES:Regionals
END:VEVENT
BEGIN:VEVENT
DTSTART;VALUE=DATE:20240610
DTEND;VALUE=DATE:20240617
DTSTAMP:20260423T182946
CREATED:20240203T112459Z
LAST-MODIFIED:20240203T112459Z
UID:4658-1717977600-1718582399@www.districtsixbridge.org
SUMMARY:District Six STAC
DESCRIPTION:
URL:https://www.districtsixbridge.org/tournament/district-six-stac-2/
CATEGORIES:STaCs
END:VEVENT
BEGIN:VEVENT
DTSTART;VALUE=DATE:20240607
DTEND;VALUE=DATE:20240610
DTSTAMP:20260423T182946
CREATED:20240211T195429Z
LAST-MODIFIED:20240211T200030Z
UID:4684-1717718400-1717977599@www.districtsixbridge.org
SUMMARY:Richmond Summer Sectional
DESCRIPTION:
URL:https://www.districtsixbridge.org/tournament/richmond-summer-sectional-3/
LOCATION:Guzman Community Center at the Faison Center 5200 Fitzhugh Ave.\, Richmond VA 23230\, 5200 Fitzhugh Ave\, Richmond\, VA\, 23230\, United States
CATEGORIES:Sectionals
END:VEVENT
BEGIN:VEVENT
DTSTART;VALUE=DATE:20240607
DTEND;VALUE=DATE:20240610
DTSTAMP:20260423T182946
CREATED:20231207T205400Z
LAST-MODIFIED:20231207T205430Z
UID:4541-1717718400-1717977599@www.districtsixbridge.org
SUMMARY:Baltimore Summer Sectional
DESCRIPTION:
URL:https://www.districtsixbridge.org/tournament/baltimore-summer-sectional-4/
LOCATION:Immanuel United Church of Christ\, 1905 Edmondson Ave\, Catonsville\, MD\, 21228\, United States
CATEGORIES:Sectionals
END:VEVENT
BEGIN:VEVENT
DTSTART;VALUE=DATE:20240516
DTEND;VALUE=DATE:20240520
DTSTAMP:20260423T182946
CREATED:20230912T191511Z
LAST-MODIFIED:20230912T191511Z
UID:4342-1715817600-1716163199@www.districtsixbridge.org
SUMMARY:WBL 74th Annual City of Washington
DESCRIPTION:
URL:https://www.districtsixbridge.org/tournament/wbl-74th-annual-city-of-washington/
LOCATION:Margaret Schweinhaut Senior Center\, 1000 Forest Glen Rd\, Silver Spring\, MD\, 20901\, United States
CATEGORIES:Sectionals
END:VEVENT
BEGIN:VEVENT
DTSTART;VALUE=DATE:20240506
DTEND;VALUE=DATE:20240513
DTSTAMP:20260423T182946
CREATED:20240203T112359Z
LAST-MODIFIED:20240211T201233Z
UID:4656-1714953600-1715558399@www.districtsixbridge.org
SUMMARY:Combined District 4 and District 6 STAC
DESCRIPTION:
URL:https://www.districtsixbridge.org/tournament/district-six-stac/
CATEGORIES:STaCs
END:VEVENT
BEGIN:VEVENT
DTSTART;VALUE=DATE:20240502
DTEND;VALUE=DATE:20240506
DTSTAMP:20260423T182946
CREATED:20230903T142609Z
LAST-MODIFIED:20230903T142609Z
UID:4322-1714608000-1714953599@www.districtsixbridge.org
SUMMARY:NVBA Spring Sectional
DESCRIPTION:
URL:https://www.districtsixbridge.org/tournament/nvba-spring-sectional-5/
LOCATION:Fairfax Elks Lodge\, 8421 Arlington Boulevard\, Fairfax\, VA\, 22031\, United States
CATEGORIES:Sectionals
END:VEVENT
END:VCALENDAR