BEGIN:VCALENDAR
VERSION:2.0
PRODID:-//District Six Bridge - ECPv6.9.0//NONSGML v1.0//EN
CALSCALE:GREGORIAN
METHOD:PUBLISH
X-WR-CALNAME:District Six Bridge
X-ORIGINAL-URL:https://www.districtsixbridge.org
X-WR-CALDESC:Events for District Six Bridge
REFRESH-INTERVAL;VALUE=DURATION:PT1H
X-Robots-Tag:noindex
X-PUBLISHED-TTL:PT1H
BEGIN:VTIMEZONE
TZID:America/New_York
BEGIN:DAYLIGHT
TZOFFSETFROM:-0500
TZOFFSETTO:-0400
TZNAME:EDT
DTSTART:20180311T070000
END:DAYLIGHT
BEGIN:STANDARD
TZOFFSETFROM:-0400
TZOFFSETTO:-0500
TZNAME:EST
DTSTART:20181104T060000
END:STANDARD
BEGIN:DAYLIGHT
TZOFFSETFROM:-0500
TZOFFSETTO:-0400
TZNAME:EDT
DTSTART:20190310T070000
END:DAYLIGHT
BEGIN:STANDARD
TZOFFSETFROM:-0400
TZOFFSETTO:-0500
TZNAME:EST
DTSTART:20191103T060000
END:STANDARD
END:VTIMEZONE
BEGIN:VEVENT
DTSTART;VALUE=DATE:20190404
DTEND;VALUE=DATE:20190408
DTSTAMP:20260425T075622
CREATED:20181211T223223Z
LAST-MODIFIED:20181211T223223Z
UID:488-1554336000-1554681599@www.districtsixbridge.org
SUMMARY:72nd Annual City Of Washington Tournament Sectional
DESCRIPTION:
URL:https://www.districtsixbridge.org/tournament/72nd-annual-city-of-washington-tournament-sectional/
LOCATION:Margaret Schweinhaut Senior Center\, 1000 Forest Glen Rd\, Silver Spring\, MD\, 20901\, United States
CATEGORIES:Sectionals
END:VEVENT
BEGIN:VEVENT
DTSTART;VALUE=DATE:20190315
DTEND;VALUE=DATE:20190318
DTSTAMP:20260425T075622
CREATED:20181211T223053Z
LAST-MODIFIED:20190112T160239Z
UID:485-1552608000-1552867199@www.districtsixbridge.org
SUMMARY:Fredericksburg\, VA St. Patrick's Day Sectional
DESCRIPTION:
URL:https://www.districtsixbridge.org/tournament/st-patricks-day-sectional/
LOCATION:Eagle’s Lodge\, 21 Cool Springs Road\, Fredericksburg\, VA\, 22405\, United States
CATEGORIES:Sectionals
END:VEVENT
BEGIN:VEVENT
DTSTART;VALUE=DATE:20190309
DTEND;VALUE=DATE:20190311
DTSTAMP:20260425T075622
CREATED:20181211T232521Z
LAST-MODIFIED:20181221T045714Z
UID:553-1552089600-1552262399@www.districtsixbridge.org
SUMMARY:District 6 GNT Final – Open/B/C Flights\, Second Weekend
DESCRIPTION:Flights Open\, B (0-2500)\, and C (0-500)
URL:https://www.districtsixbridge.org/tournament/district-6-gnt-final-for-2018-2019-4/
LOCATION:Capitol View – Homewood\, 2929 Edgewood Road\, Kensington\, MD\, 20895\, United States
CATEGORIES:GNT Finals
END:VEVENT
BEGIN:VEVENT
DTSTART;VALUE=DATE:20190308
DTEND;VALUE=DATE:20190311
DTSTAMP:20260425T075622
CREATED:20181211T222848Z
LAST-MODIFIED:20181211T222848Z
UID:483-1552003200-1552262399@www.districtsixbridge.org
SUMMARY:Williamsburg Sectional
DESCRIPTION:
URL:https://www.districtsixbridge.org/tournament/williamsburg-sectional/
LOCATION:Williamsburg DoubleTree\, 50 Kings Mill Raod\, Williamsburg\, VA\, 23185\, United States
CATEGORIES:Sectionals
END:VEVENT
BEGIN:VEVENT
DTSTART;VALUE=DATE:20190221
DTEND;VALUE=DATE:20190225
DTSTAMP:20260425T075622
CREATED:20181211T222431Z
LAST-MODIFIED:20181211T222431Z
UID:481-1550707200-1551052799@www.districtsixbridge.org
SUMMARY:NVBA Winter Sectional Tournament
DESCRIPTION:
URL:https://www.districtsixbridge.org/tournament/nvba-winter-sectional-tournament/
LOCATION:Fairfax Elks Lodge\, 8421 Arlington Boulevard\, Fairfax\, VA\, 22031\, United States
CATEGORIES:Sectionals
END:VEVENT
BEGIN:VEVENT
DTSTART;VALUE=DATE:20190218
DTEND;VALUE=DATE:20190225
DTSTAMP:20260425T075622
CREATED:20181022T201420Z
LAST-MODIFIED:20181022T201420Z
UID:285-1550448000-1551052799@www.districtsixbridge.org
SUMMARY:STaC D4
DESCRIPTION:Participating Clubs \nClub Administration
URL:https://www.districtsixbridge.org/tournament/stac-d4/
LOCATION:Various
CATEGORIES:STaCs
END:VEVENT
BEGIN:VEVENT
DTSTART;VALUE=DATE:20190216
DTEND;VALUE=DATE:20190218
DTSTAMP:20260425T075622
CREATED:20181221T045339Z
LAST-MODIFIED:20190101T171037Z
UID:907-1550275200-1550447999@www.districtsixbridge.org
SUMMARY:District 6 GNT Final – B/C Flights\, First Weekend - Southern Site
DESCRIPTION:Open\, B (0-2500)\, and C (0-500) Flights\nAlso meeting at Northern Site
URL:https://www.districtsixbridge.org/tournament/district-6-gnt-final-for-2018-2019-3/
LOCATION:The English Inn of Charlottesville\, 2000 Morton Drive\, Charlottesville\, VA\, 22903\, United States
CATEGORIES:GNT Finals
END:VEVENT
BEGIN:VEVENT
DTSTART;VALUE=DATE:20190216
DTEND;VALUE=DATE:20190218
DTSTAMP:20260425T075622
CREATED:20181211T232403Z
LAST-MODIFIED:20190101T171008Z
UID:550-1550275200-1550447999@www.districtsixbridge.org
SUMMARY:District 6 GNT Final – Open/B/C Flights\, First Weekend - Northern Site
DESCRIPTION:Open\, B (0-2500)\, and C (0-500) Flights\nAlso meeting in Charlottesville \n 
URL:https://www.districtsixbridge.org/tournament/district-6-gnt-final-for-2018-2019-2/
LOCATION:White Oak Community Center\, 1700 April Lane\, Silver Spring\, MD\, 20904\, United States
CATEGORIES:GNT Finals
END:VEVENT
BEGIN:VEVENT
DTSTART;VALUE=DATE:20190204
DTEND;VALUE=DATE:20190211
DTSTAMP:20260425T075622
CREATED:20181022T201225Z
LAST-MODIFIED:20181022T201225Z
UID:283-1549238400-1549843199@www.districtsixbridge.org
SUMMARY:STaC D6
DESCRIPTION:Participating Clubs \nClub Administration
URL:https://www.districtsixbridge.org/tournament/stac-d6-3/
LOCATION:Various
CATEGORIES:STaCs
END:VEVENT
BEGIN:VEVENT
DTSTART;VALUE=DATE:20190201
DTEND;VALUE=DATE:20190204
DTSTAMP:20260425T075622
CREATED:20181022T201106Z
LAST-MODIFIED:20181022T201106Z
UID:280-1548979200-1549238399@www.districtsixbridge.org
SUMMARY:Baltimore SuperBowl Sectional
DESCRIPTION:
URL:https://www.districtsixbridge.org/tournament/baltimore-superbowl-sectional/
LOCATION:American Legion Post 109\, 1610 Sulphur Spring Road\, Halethorpe\, MD\, 21227\, United States
CATEGORIES:Sectionals
END:VEVENT
BEGIN:VEVENT
DTSTART;VALUE=DATE:20190125
DTEND;VALUE=DATE:20190128
DTSTAMP:20260425T075622
CREATED:20181022T193354Z
LAST-MODIFIED:20181022T200643Z
UID:252-1548374400-1548633599@www.districtsixbridge.org
SUMMARY:Virginia Beach Winter Sectional
DESCRIPTION:
URL:https://www.districtsixbridge.org/tournament/virginia-beach-winter-sectional/
LOCATION:Canceled\, 4966 Euclid Road\, Virginia Beach\, VA\, 23462\, United States
CATEGORIES:Sectionals
END:VEVENT
BEGIN:VEVENT
DTSTART;VALUE=DATE:20190119
DTEND;VALUE=DATE:20190121
DTSTAMP:20260425T075622
CREATED:20181211T232241Z
LAST-MODIFIED:20181221T045445Z
UID:548-1547856000-1548028799@www.districtsixbridge.org
SUMMARY:District 6 GNT Final - A Flight\, First Weekend
DESCRIPTION:Flight A (0-6000)
URL:https://www.districtsixbridge.org/tournament/district-6-gnt-final-for-2018-2019-1/
LOCATION:White Oak Community Center\, 1700 April Lane\, Silver Spring\, MD\, 20904\, United States
CATEGORIES:GNT Finals
END:VEVENT
BEGIN:VEVENT
DTSTART;VALUE=DATE:20190118
DTEND;VALUE=DATE:20190121
DTSTAMP:20260425T075622
CREATED:20181211T221936Z
LAST-MODIFIED:20181211T221936Z
UID:478-1547769600-1548028799@www.districtsixbridge.org
SUMMARY:Jefferson Bridge NLM Tournament Sectional
DESCRIPTION:
URL:https://www.districtsixbridge.org/tournament/jefferson-bridge-nlm-tournament-sectional/
LOCATION:The English Inn of Charlottesville\, 2000 Morton Drive\, Charlottesville\, VA\, 22903\, United States
CATEGORIES:Sectionals
END:VEVENT
BEGIN:VEVENT
DTSTART;VALUE=DATE:20190111
DTEND;VALUE=DATE:20190114
DTSTAMP:20260425T075622
CREATED:20181211T221233Z
LAST-MODIFIED:20181211T222003Z
UID:475-1547164800-1547423999@www.districtsixbridge.org
SUMMARY:Richmond Winter Sectional
DESCRIPTION:Spacious Playing Area – Ample Free Parking – Famous Richmond Hospitality
URL:https://www.districtsixbridge.org/tournament/richmond-winter-sectional/
LOCATION:ACCA Temple\, 1712 Bellevue Ave\, Richmond\, VA\, 23227\, United States
CATEGORIES:Sectionals
END:VEVENT
BEGIN:VEVENT
DTSTART;VALUE=DATE:20190103
DTEND;VALUE=DATE:20190107
DTSTAMP:20260425T075622
CREATED:20181022T193353Z
LAST-MODIFIED:20190105T143217Z
UID:251-1546473600-1546819199@www.districtsixbridge.org
SUMMARY:57th Annual Presidential Tournament Sectional
DESCRIPTION:
URL:https://www.districtsixbridge.org/tournament/57th-annual-presidential-tournament-sectional/
LOCATION:Margaret Schweinhaut Senior Center\, 1000 Forest Glen Rd\, Silver Spring\, MD\, 20901\, United States
CATEGORIES:Sectionals
END:VEVENT
BEGIN:VEVENT
DTSTART;TZID=America/New_York:20181211T080000
DTEND;TZID=America/New_York:20181211T170000
DTSTAMP:20260425T075622
CREATED:20181211T225908Z
LAST-MODIFIED:20181211T225908Z
UID:527-1544515200-1544547600@www.districtsixbridge.org
SUMMARY:STaC D4; U135 (D6)
DESCRIPTION:
URL:https://www.districtsixbridge.org/tournament/stac-d4-u135-d6/
LOCATION:Various
CATEGORIES:STaCs
END:VEVENT
BEGIN:VEVENT
DTSTART;VALUE=DATE:20181210
DTEND;VALUE=DATE:20181217
DTSTAMP:20260425T075622
CREATED:20181022T193351Z
LAST-MODIFIED:20181022T195129Z
UID:250-1544400000-1545004799@www.districtsixbridge.org
SUMMARY:STaC D6
DESCRIPTION:Participating Clubs \nClub Administration
URL:https://www.districtsixbridge.org/tournament/stac-d6-2/
LOCATION:Various
CATEGORIES:STaCs
END:VEVENT
BEGIN:VEVENT
DTSTART;VALUE=DATE:20181207
DTEND;VALUE=DATE:20181210
DTSTAMP:20260425T075622
CREATED:20181022T193351Z
LAST-MODIFIED:20181022T194725Z
UID:249-1544140800-1544399999@www.districtsixbridge.org
SUMMARY:Shenandoah Valley Winter Sectional
DESCRIPTION:
URL:https://www.districtsixbridge.org/tournament/charlottesville/
LOCATION:Comfort Inn Monticello\, 2097 Inn Drive\, Charlottesville\, VA\, 22911\, United States
CATEGORIES:Sectionals
END:VEVENT
BEGIN:VEVENT
DTSTART;VALUE=DATE:20181112
DTEND;VALUE=DATE:20181119
DTSTAMP:20260425T075622
CREATED:20181022T193350Z
LAST-MODIFIED:20181022T200743Z
UID:248-1541980800-1542585599@www.districtsixbridge.org
SUMMARY:STaC D6
DESCRIPTION:Participating Clubs \nClub Administration
URL:https://www.districtsixbridge.org/tournament/stac-d6/
LOCATION:Various
CATEGORIES:STaCs
END:VEVENT
BEGIN:VEVENT
DTSTART;TZID=America/New_York:20181110T000000
DTEND;TZID=America/New_York:20181111T000000
DTSTAMP:20260425T075622
CREATED:20181022T193350Z
LAST-MODIFIED:20181022T194050Z
UID:247-1541808000-1541894400@www.districtsixbridge.org
SUMMARY:District 6 NAP Final for 2018-2019
DESCRIPTION:** Meets at various sites **
URL:https://www.districtsixbridge.org/tournament/silver-spring/
LOCATION:White Oak Community Center\, 1700 April Lane\, Silver Spring\, MD\, 20904\, United States
CATEGORIES:NAP Finals
END:VEVENT
BEGIN:VEVENT
DTSTART;VALUE=DATE:20181025
DTEND;VALUE=DATE:20181029
DTSTAMP:20260425T075622
CREATED:20181022T193350Z
LAST-MODIFIED:20181022T194846Z
UID:246-1540425600-1540771199@www.districtsixbridge.org
SUMMARY:NVBA Fall Sectional Tournament
DESCRIPTION:
URL:https://www.districtsixbridge.org/tournament/fairfax/
LOCATION:Fairfax Elks Lodge\, 8421 Arlington Boulevard\, Fairfax\, VA\, 22031\, United States
CATEGORIES:Sectionals
END:VEVENT
BEGIN:VEVENT
DTSTART;VALUE=DATE:20181011
DTEND;VALUE=DATE:20181015
DTSTAMP:20260425T075622
CREATED:20180913T005450Z
LAST-MODIFIED:20181017T220511Z
UID:84-1539216000-1539561599@www.districtsixbridge.org
SUMMARY:88th Annual DC Championships Sectional
DESCRIPTION:Tournament Chair: Brad Theurer \nPartnership Chair: Barbara Doran \nDirector in Charge: Christopher Miller \nPartnership Desk \nTournament Flyer
URL:https://www.districtsixbridge.org/tournament/88th-annual-dc-championships-sectional/
LOCATION:Margaret Schweinhaut Senior Center\, 1000 Forest Glen Rd\, Silver Spring\, MD\, 20901\, United States
CATEGORIES:Sectionals
END:VEVENT
BEGIN:VEVENT
DTSTART;VALUE=DATE:20180928
DTEND;VALUE=DATE:20181001
DTSTAMP:20260425T075622
CREATED:20180913T004956Z
LAST-MODIFIED:20180913T005022Z
UID:82-1538092800-1538351999@www.districtsixbridge.org
SUMMARY:Williamsburg Fall Sectional
DESCRIPTION:Tournament Chair: Jane Farthing \nPartnership Chair: Dianne Morton \nDirector in Charge: Cathy Hildebrand \nPartnership Desk \nTournament Flyer
URL:https://www.districtsixbridge.org/tournament/williamsburg-fall-sectional/
LOCATION:Williamsburg DoubleTree\, 50 Kings Mill Raod\, Williamsburg\, VA\, 23185\, United States
CATEGORIES:NLM Sectionals,Sectionals
END:VEVENT
BEGIN:VEVENT
DTSTART;VALUE=DATE:20180928
DTEND;VALUE=DATE:20181001
DTSTAMP:20260425T075622
CREATED:20180913T003641Z
LAST-MODIFIED:20180913T003641Z
UID:79-1538092800-1538351999@www.districtsixbridge.org
SUMMARY:Williamsburg NLM Gold Rush Regional
DESCRIPTION:Tournament Chair: Jane Farthing \nPartnership Chair: Dianne Morton \nDirector in Charge: Cathy Hildebrand \nPartnership Desk \nTournament Flyer
URL:https://www.districtsixbridge.org/tournament/williamsburg-nlm-gold-rush-regional/
LOCATION:Williamsburg DoubleTree\, 50 Kings Mill Raod\, Williamsburg\, VA\, 23185\, United States
END:VEVENT
END:VCALENDAR