BEGIN:VCALENDAR
VERSION:2.0
PRODID:-//District Six Bridge - ECPv6.9.0//NONSGML v1.0//EN
CALSCALE:GREGORIAN
METHOD:PUBLISH
X-WR-CALNAME:District Six Bridge
X-ORIGINAL-URL:https://www.districtsixbridge.org
X-WR-CALDESC:Events for District Six Bridge
REFRESH-INTERVAL;VALUE=DURATION:PT1H
X-Robots-Tag:noindex
X-PUBLISHED-TTL:PT1H
BEGIN:VTIMEZONE
TZID:America/New_York
BEGIN:DAYLIGHT
TZOFFSETFROM:-0500
TZOFFSETTO:-0400
TZNAME:EDT
DTSTART:20190310T070000
END:DAYLIGHT
BEGIN:STANDARD
TZOFFSETFROM:-0400
TZOFFSETTO:-0500
TZNAME:EST
DTSTART:20191103T060000
END:STANDARD
END:VTIMEZONE
BEGIN:VEVENT
DTSTART;VALUE=DATE:20190712
DTEND;VALUE=DATE:20190715
DTSTAMP:20260425T070047
CREATED:20190111T160446Z
LAST-MODIFIED:20190111T160446Z
UID:988-1562889600-1563148799@www.districtsixbridge.org
SUMMARY:Mr. Jefferson Sectional
DESCRIPTION:
URL:https://www.districtsixbridge.org/tournament/mr-jefferson-sectional/
CATEGORIES:Sectionals
END:VEVENT
BEGIN:VEVENT
DTSTART;VALUE=DATE:20190701
DTEND;VALUE=DATE:20190708
DTSTAMP:20260425T070047
CREATED:20181211T225437Z
LAST-MODIFIED:20190412T134213Z
UID:519-1561939200-1562543999@www.districtsixbridge.org
SUMMARY:National Capital 4th of July Regional
DESCRIPTION:See separate Intermediate/Newcomer Flyer Reston 2019 I-N Flyer \nFAQs for Round Robin Knockouts Round Robin Fact Sheet
URL:https://www.districtsixbridge.org/tournament/national-capital-4th-of-july-regional/
LOCATION:Hyatt Regency at Reston Town Center\, 1800 Presidents Street\, Reston\, VA\, 20190\, United States
CATEGORIES:Regionals
END:VEVENT
BEGIN:VEVENT
DTSTART;VALUE=DATE:20190628
DTEND;VALUE=DATE:20190701
DTSTAMP:20260425T070047
CREATED:20181211T225244Z
LAST-MODIFIED:20181211T225244Z
UID:517-1561680000-1561939199@www.districtsixbridge.org
SUMMARY:Richmond Summer Sectional
DESCRIPTION:
URL:https://www.districtsixbridge.org/tournament/richmond-summer-sectional/
LOCATION:ACCA Temple\, 1712 Bellevue Ave\, Richmond\, VA\, 23227\, United States
CATEGORIES:Sectionals
END:VEVENT
BEGIN:VEVENT
DTSTART;VALUE=DATE:20190621
DTEND;VALUE=DATE:20190624
DTSTAMP:20260425T070047
CREATED:20181211T225114Z
LAST-MODIFIED:20181211T225114Z
UID:515-1561075200-1561334399@www.districtsixbridge.org
SUMMARY:Virginia Beach Summer Sectional
DESCRIPTION:
URL:https://www.districtsixbridge.org/tournament/virginia-beach-summer-sectional/
LOCATION:Canceled\, 4966 Euclid Road\, Virginia Beach\, VA\, 23462\, United States
CATEGORIES:Sectionals
END:VEVENT
BEGIN:VEVENT
DTSTART;VALUE=DATE:20190610
DTEND;VALUE=DATE:20190617
DTSTAMP:20260425T070047
CREATED:20181211T225003Z
LAST-MODIFIED:20181211T225003Z
UID:512-1560124800-1560729599@www.districtsixbridge.org
SUMMARY:STaC D6
DESCRIPTION:
URL:https://www.districtsixbridge.org/tournament/stac-d6-5/
LOCATION:Various
CATEGORIES:STaCs
END:VEVENT
BEGIN:VEVENT
DTSTART;VALUE=DATE:20190607
DTEND;VALUE=DATE:20190610
DTSTAMP:20260425T070047
CREATED:20181211T224921Z
LAST-MODIFIED:20181211T224921Z
UID:510-1559865600-1560124799@www.districtsixbridge.org
SUMMARY:Baltimore Summer Sectional
DESCRIPTION:
URL:https://www.districtsixbridge.org/tournament/baltimore-summer-sectional/
LOCATION:American Legion Post 109\, 1610 Sulphur Spring Road\, Halethorpe\, MD\, 21227\, United States
CATEGORIES:Sectionals
END:VEVENT
BEGIN:VEVENT
DTSTART;VALUE=DATE:20190531
DTEND;VALUE=DATE:20190603
DTSTAMP:20260425T070047
CREATED:20181211T224739Z
LAST-MODIFIED:20181211T224739Z
UID:507-1559260800-1559519999@www.districtsixbridge.org
SUMMARY:Unit 231 Sectional
DESCRIPTION:
URL:https://www.districtsixbridge.org/tournament/unit-231-sectional/
LOCATION:Blacksburg Rec Center\, 725 Patrick Henry Drive\, Blacksburg\, VA\, 24060\, United States
CATEGORIES:Sectionals
END:VEVENT
BEGIN:VEVENT
DTSTART;VALUE=DATE:20190530
DTEND;VALUE=DATE:20190603
DTSTAMP:20260425T070047
CREATED:20181211T224551Z
LAST-MODIFIED:20181211T224551Z
UID:505-1559174400-1559519999@www.districtsixbridge.org
SUMMARY:74th Annual Potomac Valley Tournament Sectional
DESCRIPTION:
URL:https://www.districtsixbridge.org/tournament/74th-annual-potomac-valley-tournament-sectional/
LOCATION:Margaret Schweinhaut Senior Center\, 1000 Forest Glen Rd\, Silver Spring\, MD\, 20901\, United States
CATEGORIES:Sectionals
END:VEVENT
BEGIN:VEVENT
DTSTART;VALUE=DATE:20190520
DTEND;VALUE=DATE:20190527
DTSTAMP:20260425T070047
CREATED:20181211T224416Z
LAST-MODIFIED:20190412T134516Z
UID:502-1558310400-1558915199@www.districtsixbridge.org
SUMMARY:Richmond Memorial Day Regional
DESCRIPTION:FAQs for Round Robin Knockouts Round Robin Fact Sheet
URL:https://www.districtsixbridge.org/tournament/richmond-memorial-day-regional/
LOCATION:DoubleTree Richmond-Midlothian\, 10800 Midlothian Turnpike\, Richmond\, VA\, 23235\, United States
CATEGORIES:Regionals
END:VEVENT
BEGIN:VEVENT
DTSTART;VALUE=DATE:20190516
DTEND;VALUE=DATE:20190518
DTSTAMP:20260425T070047
CREATED:20181211T224152Z
LAST-MODIFIED:20181211T224152Z
UID:499-1557964800-1558137599@www.districtsixbridge.org
SUMMARY:Blue Crab Sectional
DESCRIPTION:
URL:https://www.districtsixbridge.org/tournament/blue-crab-sectional/
LOCATION:American Legion Post 91\, 601 Radiance Drive\, Cambridge\, MD\, 21673\, United States
CATEGORIES:Sectionals
END:VEVENT
BEGIN:VEVENT
DTSTART;VALUE=DATE:20190506
DTEND;VALUE=DATE:20190513
DTSTAMP:20260425T070047
CREATED:20181211T223905Z
LAST-MODIFIED:20181211T223905Z
UID:497-1557100800-1557705599@www.districtsixbridge.org
SUMMARY:STaC D6
DESCRIPTION:
URL:https://www.districtsixbridge.org/tournament/stac-d6-4/
LOCATION:Various
CATEGORIES:STaCs
END:VEVENT
BEGIN:VEVENT
DTSTART;TZID=America/New_York:20190504T103000
DTEND;TZID=America/New_York:20190505T180000
DTSTAMP:20260425T070047
CREATED:20190404T004315Z
LAST-MODIFIED:20190404T004315Z
UID:1229-1556965800-1557079200@www.districtsixbridge.org
SUMMARY:WBL NLM Sectional
DESCRIPTION:
URL:https://www.districtsixbridge.org/tournament/wbl-nlm-sectional/
LOCATION:Newport Middle School\, 11311 Newport Mill Rd\, Kensington\, MD\, 20895
CATEGORIES:Sectionals
END:VEVENT
BEGIN:VEVENT
DTSTART;VALUE=DATE:20190412
DTEND;VALUE=DATE:20190415
DTSTAMP:20260425T070047
CREATED:20181211T223559Z
LAST-MODIFIED:20181211T223559Z
UID:493-1555027200-1555286399@www.districtsixbridge.org
SUMMARY:Virginia Beach Spring Sectional
DESCRIPTION:
URL:https://www.districtsixbridge.org/tournament/virginia-beach-spring-sectional/
LOCATION:Canceled\, 4966 Euclid Road\, Virginia Beach\, VA\, 23462\, United States
CATEGORIES:Sectionals
END:VEVENT
BEGIN:VEVENT
DTSTART;VALUE=DATE:20190411
DTEND;VALUE=DATE:20190415
DTSTAMP:20260425T070047
CREATED:20181211T223815Z
LAST-MODIFIED:20181221T043935Z
UID:495-1554940800-1555286399@www.districtsixbridge.org
SUMMARY:NVBA Spring Sectional
DESCRIPTION:
URL:https://www.districtsixbridge.org/tournament/nvba-spring-sectional/
LOCATION:Fairfax Elks Lodge\, 8421 Arlington Boulevard\, Fairfax\, VA\, 22031\, United States
CATEGORIES:Sectionals
END:VEVENT
BEGIN:VEVENT
DTSTART;VALUE=DATE:20190406
DTEND;VALUE=DATE:20190408
DTSTAMP:20260425T070047
CREATED:20181211T232646Z
LAST-MODIFIED:20181221T045827Z
UID:556-1554508800-1554681599@www.districtsixbridge.org
SUMMARY:District 6 GNT Final – A Flight\, Second Weekend
DESCRIPTION:Flight A (0-6000)
URL:https://www.districtsixbridge.org/tournament/district-6-gnt-final-for-2018-2019-5/
LOCATION:Margaret Schweinhaut Senior Center\, 1000 Forest Glen Rd\, Silver Spring\, MD\, 20901\, United States
CATEGORIES:GNT Finals
END:VEVENT
BEGIN:VEVENT
DTSTART;VALUE=DATE:20190405
DTEND;VALUE=DATE:20190408
DTSTAMP:20260425T070047
CREATED:20181211T223419Z
LAST-MODIFIED:20181211T223419Z
UID:490-1554422400-1554681599@www.districtsixbridge.org
SUMMARY:Lynchburg Spring Sectional
DESCRIPTION:
URL:https://www.districtsixbridge.org/tournament/lynchburg-spring-sectional/
LOCATION:Forest Recreation Center\, 1088 Rustic Village Road\, Lynchburg\, VA\, United States
CATEGORIES:Sectionals
END:VEVENT
BEGIN:VEVENT
DTSTART;VALUE=DATE:20190404
DTEND;VALUE=DATE:20190408
DTSTAMP:20260425T070047
CREATED:20181211T223223Z
LAST-MODIFIED:20181211T223223Z
UID:488-1554336000-1554681599@www.districtsixbridge.org
SUMMARY:72nd Annual City Of Washington Tournament Sectional
DESCRIPTION:
URL:https://www.districtsixbridge.org/tournament/72nd-annual-city-of-washington-tournament-sectional/
LOCATION:Margaret Schweinhaut Senior Center\, 1000 Forest Glen Rd\, Silver Spring\, MD\, 20901\, United States
CATEGORIES:Sectionals
END:VEVENT
BEGIN:VEVENT
DTSTART;VALUE=DATE:20190315
DTEND;VALUE=DATE:20190318
DTSTAMP:20260425T070047
CREATED:20181211T223053Z
LAST-MODIFIED:20190112T160239Z
UID:485-1552608000-1552867199@www.districtsixbridge.org
SUMMARY:Fredericksburg\, VA St. Patrick's Day Sectional
DESCRIPTION:
URL:https://www.districtsixbridge.org/tournament/st-patricks-day-sectional/
LOCATION:Eagle’s Lodge\, 21 Cool Springs Road\, Fredericksburg\, VA\, 22405\, United States
CATEGORIES:Sectionals
END:VEVENT
BEGIN:VEVENT
DTSTART;VALUE=DATE:20190309
DTEND;VALUE=DATE:20190311
DTSTAMP:20260425T070047
CREATED:20181211T232521Z
LAST-MODIFIED:20181221T045714Z
UID:553-1552089600-1552262399@www.districtsixbridge.org
SUMMARY:District 6 GNT Final – Open/B/C Flights\, Second Weekend
DESCRIPTION:Flights Open\, B (0-2500)\, and C (0-500)
URL:https://www.districtsixbridge.org/tournament/district-6-gnt-final-for-2018-2019-4/
LOCATION:Capitol View – Homewood\, 2929 Edgewood Road\, Kensington\, MD\, 20895\, United States
CATEGORIES:GNT Finals
END:VEVENT
BEGIN:VEVENT
DTSTART;VALUE=DATE:20190308
DTEND;VALUE=DATE:20190311
DTSTAMP:20260425T070047
CREATED:20181211T222848Z
LAST-MODIFIED:20181211T222848Z
UID:483-1552003200-1552262399@www.districtsixbridge.org
SUMMARY:Williamsburg Sectional
DESCRIPTION:
URL:https://www.districtsixbridge.org/tournament/williamsburg-sectional/
LOCATION:Williamsburg DoubleTree\, 50 Kings Mill Raod\, Williamsburg\, VA\, 23185\, United States
CATEGORIES:Sectionals
END:VEVENT
BEGIN:VEVENT
DTSTART;VALUE=DATE:20190221
DTEND;VALUE=DATE:20190225
DTSTAMP:20260425T070047
CREATED:20181211T222431Z
LAST-MODIFIED:20181211T222431Z
UID:481-1550707200-1551052799@www.districtsixbridge.org
SUMMARY:NVBA Winter Sectional Tournament
DESCRIPTION:
URL:https://www.districtsixbridge.org/tournament/nvba-winter-sectional-tournament/
LOCATION:Fairfax Elks Lodge\, 8421 Arlington Boulevard\, Fairfax\, VA\, 22031\, United States
CATEGORIES:Sectionals
END:VEVENT
BEGIN:VEVENT
DTSTART;VALUE=DATE:20190218
DTEND;VALUE=DATE:20190225
DTSTAMP:20260425T070047
CREATED:20181022T201420Z
LAST-MODIFIED:20181022T201420Z
UID:285-1550448000-1551052799@www.districtsixbridge.org
SUMMARY:STaC D4
DESCRIPTION:Participating Clubs \nClub Administration
URL:https://www.districtsixbridge.org/tournament/stac-d4/
LOCATION:Various
CATEGORIES:STaCs
END:VEVENT
BEGIN:VEVENT
DTSTART;VALUE=DATE:20190216
DTEND;VALUE=DATE:20190218
DTSTAMP:20260425T070047
CREATED:20181221T045339Z
LAST-MODIFIED:20190101T171037Z
UID:907-1550275200-1550447999@www.districtsixbridge.org
SUMMARY:District 6 GNT Final – B/C Flights\, First Weekend - Southern Site
DESCRIPTION:Open\, B (0-2500)\, and C (0-500) Flights\nAlso meeting at Northern Site
URL:https://www.districtsixbridge.org/tournament/district-6-gnt-final-for-2018-2019-3/
LOCATION:The English Inn of Charlottesville\, 2000 Morton Drive\, Charlottesville\, VA\, 22903\, United States
CATEGORIES:GNT Finals
END:VEVENT
BEGIN:VEVENT
DTSTART;VALUE=DATE:20190216
DTEND;VALUE=DATE:20190218
DTSTAMP:20260425T070047
CREATED:20181211T232403Z
LAST-MODIFIED:20190101T171008Z
UID:550-1550275200-1550447999@www.districtsixbridge.org
SUMMARY:District 6 GNT Final – Open/B/C Flights\, First Weekend - Northern Site
DESCRIPTION:Open\, B (0-2500)\, and C (0-500) Flights\nAlso meeting in Charlottesville \n 
URL:https://www.districtsixbridge.org/tournament/district-6-gnt-final-for-2018-2019-2/
LOCATION:White Oak Community Center\, 1700 April Lane\, Silver Spring\, MD\, 20904\, United States
CATEGORIES:GNT Finals
END:VEVENT
BEGIN:VEVENT
DTSTART;VALUE=DATE:20190204
DTEND;VALUE=DATE:20190211
DTSTAMP:20260425T070047
CREATED:20181022T201225Z
LAST-MODIFIED:20181022T201225Z
UID:283-1549238400-1549843199@www.districtsixbridge.org
SUMMARY:STaC D6
DESCRIPTION:Participating Clubs \nClub Administration
URL:https://www.districtsixbridge.org/tournament/stac-d6-3/
LOCATION:Various
CATEGORIES:STaCs
END:VEVENT
BEGIN:VEVENT
DTSTART;VALUE=DATE:20190201
DTEND;VALUE=DATE:20190204
DTSTAMP:20260425T070047
CREATED:20181022T201106Z
LAST-MODIFIED:20181022T201106Z
UID:280-1548979200-1549238399@www.districtsixbridge.org
SUMMARY:Baltimore SuperBowl Sectional
DESCRIPTION:
URL:https://www.districtsixbridge.org/tournament/baltimore-superbowl-sectional/
LOCATION:American Legion Post 109\, 1610 Sulphur Spring Road\, Halethorpe\, MD\, 21227\, United States
CATEGORIES:Sectionals
END:VEVENT
BEGIN:VEVENT
DTSTART;VALUE=DATE:20190125
DTEND;VALUE=DATE:20190128
DTSTAMP:20260425T070047
CREATED:20181022T193354Z
LAST-MODIFIED:20181022T200643Z
UID:252-1548374400-1548633599@www.districtsixbridge.org
SUMMARY:Virginia Beach Winter Sectional
DESCRIPTION:
URL:https://www.districtsixbridge.org/tournament/virginia-beach-winter-sectional/
LOCATION:Canceled\, 4966 Euclid Road\, Virginia Beach\, VA\, 23462\, United States
CATEGORIES:Sectionals
END:VEVENT
BEGIN:VEVENT
DTSTART;VALUE=DATE:20190119
DTEND;VALUE=DATE:20190121
DTSTAMP:20260425T070047
CREATED:20181211T232241Z
LAST-MODIFIED:20181221T045445Z
UID:548-1547856000-1548028799@www.districtsixbridge.org
SUMMARY:District 6 GNT Final - A Flight\, First Weekend
DESCRIPTION:Flight A (0-6000)
URL:https://www.districtsixbridge.org/tournament/district-6-gnt-final-for-2018-2019-1/
LOCATION:White Oak Community Center\, 1700 April Lane\, Silver Spring\, MD\, 20904\, United States
CATEGORIES:GNT Finals
END:VEVENT
BEGIN:VEVENT
DTSTART;VALUE=DATE:20190118
DTEND;VALUE=DATE:20190121
DTSTAMP:20260425T070047
CREATED:20181211T221936Z
LAST-MODIFIED:20181211T221936Z
UID:478-1547769600-1548028799@www.districtsixbridge.org
SUMMARY:Jefferson Bridge NLM Tournament Sectional
DESCRIPTION:
URL:https://www.districtsixbridge.org/tournament/jefferson-bridge-nlm-tournament-sectional/
LOCATION:The English Inn of Charlottesville\, 2000 Morton Drive\, Charlottesville\, VA\, 22903\, United States
CATEGORIES:Sectionals
END:VEVENT
BEGIN:VEVENT
DTSTART;VALUE=DATE:20190111
DTEND;VALUE=DATE:20190114
DTSTAMP:20260425T070047
CREATED:20181211T221233Z
LAST-MODIFIED:20181211T222003Z
UID:475-1547164800-1547423999@www.districtsixbridge.org
SUMMARY:Richmond Winter Sectional
DESCRIPTION:Spacious Playing Area – Ample Free Parking – Famous Richmond Hospitality
URL:https://www.districtsixbridge.org/tournament/richmond-winter-sectional/
LOCATION:ACCA Temple\, 1712 Bellevue Ave\, Richmond\, VA\, 23227\, United States
CATEGORIES:Sectionals
END:VEVENT
END:VCALENDAR