BEGIN:VCALENDAR
VERSION:2.0
PRODID:-//District Six Bridge - ECPv6.9.0//NONSGML v1.0//EN
CALSCALE:GREGORIAN
METHOD:PUBLISH
X-WR-CALNAME:District Six Bridge
X-ORIGINAL-URL:https://www.districtsixbridge.org
X-WR-CALDESC:Events for District Six Bridge
REFRESH-INTERVAL;VALUE=DURATION:PT1H
X-Robots-Tag:noindex
X-PUBLISHED-TTL:PT1H
BEGIN:VTIMEZONE
TZID:America/New_York
BEGIN:DAYLIGHT
TZOFFSETFROM:-0500
TZOFFSETTO:-0400
TZNAME:EDT
DTSTART:20190310T070000
END:DAYLIGHT
BEGIN:STANDARD
TZOFFSETFROM:-0400
TZOFFSETTO:-0500
TZNAME:EST
DTSTART:20191103T060000
END:STANDARD
BEGIN:DAYLIGHT
TZOFFSETFROM:-0500
TZOFFSETTO:-0400
TZNAME:EDT
DTSTART:20200308T070000
END:DAYLIGHT
BEGIN:STANDARD
TZOFFSETFROM:-0400
TZOFFSETTO:-0500
TZNAME:EST
DTSTART:20201101T060000
END:STANDARD
END:VTIMEZONE
BEGIN:VEVENT
DTSTART;TZID=America/New_York:20200210T080000
DTEND;TZID=America/New_York:20200216T170000
DTSTAMP:20260425T121958
CREATED:20190910T010402Z
LAST-MODIFIED:20190910T010402Z
UID:1628-1581321600-1581872400@www.districtsixbridge.org
SUMMARY:District 6 STaC
DESCRIPTION:
URL:https://www.districtsixbridge.org/tournament/district-6-stac/
LOCATION:VA
CATEGORIES:STaCs
END:VEVENT
BEGIN:VEVENT
DTSTART;VALUE=DATE:20200203
DTEND;VALUE=DATE:20200210
DTSTAMP:20260425T121958
CREATED:20190910T002214Z
LAST-MODIFIED:20190910T002214Z
UID:1604-1580688000-1581292799@www.districtsixbridge.org
SUMMARY:Williamsburg Regional
DESCRIPTION:
URL:https://www.districtsixbridge.org/tournament/williamsburg-regional/
LOCATION:Williamsburg DoubleTree\, 50 Kings Mill Raod\, Williamsburg\, VA\, 23185\, United States
CATEGORIES:Regionals
END:VEVENT
BEGIN:VEVENT
DTSTART;VALUE=DATE:20200125
DTEND;VALUE=DATE:20200127
DTSTAMP:20260425T121958
CREATED:20190910T001207Z
LAST-MODIFIED:20190910T003313Z
UID:1597-1579910400-1580083199@www.districtsixbridge.org
SUMMARY:District 6 GNT Flight A First Weekend
DESCRIPTION:
URL:https://www.districtsixbridge.org/tournament/district-6-flight-a-first-weekend/
LOCATION:White Oak Community Center\, 1700 April Lane\, Silver Spring\, MD\, 20904\, United States
CATEGORIES:GNT Finals
END:VEVENT
BEGIN:VEVENT
DTSTART;VALUE=DATE:20200117
DTEND;VALUE=DATE:20200120
DTSTAMP:20260425T121958
CREATED:20191013T233712Z
LAST-MODIFIED:20191013T233712Z
UID:1593-1579219200-1579478399@www.districtsixbridge.org
SUMMARY:Richmond Winter Sectional
DESCRIPTION:
URL:https://www.districtsixbridge.org/tournament/richmond-winter-sectional-3/
LOCATION:Guzman Community Center at the Faison Center 5200 Fitzhugh Ave.\, Richmond VA 23230\, 5200 Fitzhugh Ave\, Richmond\, VA\, 23230\, United States
CATEGORIES:Sectionals
END:VEVENT
BEGIN:VEVENT
DTSTART;VALUE=DATE:20200116
DTEND;VALUE=DATE:20200120
DTSTAMP:20260425T121958
CREATED:20190910T000148Z
LAST-MODIFIED:20191009T223813Z
UID:1588-1579132800-1579478399@www.districtsixbridge.org
SUMMARY:WBL 58th Annual Presidential Tournament
DESCRIPTION:
URL:https://www.districtsixbridge.org/tournament/wbl-58th-annual-presidential-tournament/
LOCATION:Margaret Schweinhaut Senior Center\, 1000 Forest Glen Rd\, Silver Spring\, MD\, 20901\, United States
CATEGORIES:Sectionals
END:VEVENT
BEGIN:VEVENT
DTSTART;VALUE=DATE:20200110
DTEND;VALUE=DATE:20200113
DTSTAMP:20260425T121958
CREATED:20190111T155911Z
LAST-MODIFIED:20190111T155911Z
UID:986-1578614400-1578873599@www.districtsixbridge.org
SUMMARY:VA Beach Winter Sectional
DESCRIPTION:
URL:https://www.districtsixbridge.org/tournament/va-beach-winter-sectional/
LOCATION:Canceled\, 4966 Euclid Road\, Virginia Beach\, VA\, 23462\, United States
CATEGORIES:Sectionals
END:VEVENT
BEGIN:VEVENT
DTSTART;VALUE=DATE:20191216
DTEND;VALUE=DATE:20191223
DTSTAMP:20260425T121958
CREATED:20181211T232113Z
LAST-MODIFIED:20190821T021350Z
UID:546-1576454400-1577059199@www.districtsixbridge.org
SUMMARY:STaC D6; D4 U190
DESCRIPTION:
URL:https://www.districtsixbridge.org/tournament/stac-d6-d4-u190/
LOCATION:VA
CATEGORIES:STaCs
END:VEVENT
BEGIN:VEVENT
DTSTART;VALUE=DATE:20191213
DTEND;VALUE=DATE:20191216
DTSTAMP:20260425T121958
CREATED:20190821T022336Z
LAST-MODIFIED:20190821T022336Z
UID:1549-1576195200-1576454399@www.districtsixbridge.org
SUMMARY:Shenandoah Valley Winter Sectional
DESCRIPTION:
URL:https://www.districtsixbridge.org/tournament/shenandoah-valley-winter-sectional/
LOCATION:Best Western Plus Crossroads Inn & Suites 135 Wood Ridge Terrace\, Zion Crossroads\, VA 22942\, 135 Wood Ridge Terrace\, Zion Crossroads\, VA\, 22942\, United States
END:VEVENT
BEGIN:VEVENT
DTSTART;TZID=America/New_York:20191202T080000
DTEND;TZID=America/New_York:20191202T170000
DTSTAMP:20260425T121958
CREATED:20191203T002236Z
LAST-MODIFIED:20191203T002236Z
UID:1806-1575273600-1575306000@www.districtsixbridge.org
SUMMARY:Cambridge\, MD Regional - Top Ten District 6 Finishers
DESCRIPTION:Here is a list of the top ten finishers in various Masterpoint categories at the November 2019 Cambridge\, MD Regional \nCambridge MD Regional \n11-17 November 2019 \nDistrict Six Members \n   1    72.06  Jay Cherlow \n   2    65.52  Andrew Gofreed \n   3    60.75  Fred King \n   4    58.68  Robert Bell \n   5    56.12  Lynn Jones \n        56.12  Paul Benedict \n   7    53.68  Albert Lauber \n   8    49.09  Eric Branfman \n   9    48.83  Brian Schoenfeld \n        48.83  Muh-Sha Crawford \nDistrict Six Members with fewer than 3000 masterpoints \n   1    53.68  Albert Lauber \n   2    49.09  Eric Branfman \n   3    43.71  Barbara Devaney \n   4    40.25  Joyce Currie \n   5    40.12  Alan Munro \n        40.12  James Dahlberg \n   7    38.38  Brian Sutton \n   8    36.15  Lannetta Schmidt \n   9    34.44  Ernie Schuler \n  10    34.24 Michael Salmon \nDistrict Six Members with fewer than 750 masterpoints \n   1    43.71  Barbara Devaney \n   2    40.12  James Dahlberg \n   3    30.74  W Calvin Barnard \n   4    28.35  Melinda Webb \n   5    25.26  Herb Lichtenstein \n   6    25.24  Jess Feinman \n        25.24  Mark Valavanis \n   8    24.76  Glenn Terrell \n   9    24.47  Paul Mohler \n  10    23.47 John Graf \nDistrict Six Members with fewer than 300 masterpoints \n   1    40.12  James Dahlberg \n   2    30.74  W Calvin Barnard \n   3    25.24  Jess Feinman \n   4    19.69  Susan Dipaula \n   5    17.81  Neil Cowie \n   6    17.46  A Hutzler \n   7    14.55  Harriet Lewit \n   8    13.07  David Delzingaro \n   9    11.88  Pamela Burrows \n  10    11.86 Olga Gavrik \n        11.86  Ellen Simonoff \nDistrict Six Members with fewer than 100 masterpoints \n   1    10.84  Patsy Brannon \n        10.84  Wes Buchanan \n   3     9.89 Helen Walker \n   4     9.26 Fran Duman \n   5     7.57 Hazel White \n   6     6.93 Florence Levine \n   7     6.56 Selma Sawaya \n   8     6.48 Elizabeth Lomas \n   9     6.13 Marie Petersen \n  10     5.74 Maxwell Burns \n         5.74  Nancy Hersh
URL:https://www.districtsixbridge.org/tournament/cambridge-md-regional-top-ten-district-6-finishers/
LOCATION:VA
END:VEVENT
BEGIN:VEVENT
DTSTART;VALUE=DATE:20191118
DTEND;VALUE=DATE:20191125
DTSTAMP:20260425T121958
CREATED:20181211T232017Z
LAST-MODIFIED:20181211T232017Z
UID:544-1574035200-1574639999@www.districtsixbridge.org
SUMMARY:STaC D4; U135(D6)
DESCRIPTION:
URL:https://www.districtsixbridge.org/tournament/stac-d4-u135d6/
LOCATION:Various
CATEGORIES:STaCs
END:VEVENT
BEGIN:VEVENT
DTSTART;VALUE=DATE:20191111
DTEND;VALUE=DATE:20191118
DTSTAMP:20260425T121958
CREATED:20181211T231931Z
LAST-MODIFIED:20190412T141356Z
UID:541-1573430400-1574035199@www.districtsixbridge.org
SUMMARY:Chesapeake Regional
DESCRIPTION:FAQs for Round Robin Knockouts Round Robin Fact Sheet \nIntermediate/Newcomer Flyer Chessie2019 I-N_events_schedule
URL:https://www.districtsixbridge.org/tournament/chesapeake-regional/
LOCATION:Hyatt Regency Chesapeake Bay Resort\, 100 Heron Blvd\, Cambridge\, MD\, 21613\, United States
CATEGORIES:Regionals
END:VEVENT
BEGIN:VEVENT
DTSTART;VALUE=DATE:20191024
DTEND;VALUE=DATE:20191028
DTSTAMP:20260425T121958
CREATED:20181211T231735Z
LAST-MODIFIED:20181211T231735Z
UID:539-1571875200-1572220799@www.districtsixbridge.org
SUMMARY:89th Annual DC Championships Sectional
DESCRIPTION:
URL:https://www.districtsixbridge.org/tournament/89th-annual-dc-championships-sectional/
LOCATION:Margaret Schweinhaut Senior Center\, 1000 Forest Glen Rd\, Silver Spring\, MD\, 20901\, United States
CATEGORIES:Sectionals
END:VEVENT
BEGIN:VEVENT
DTSTART;VALUE=DATE:20191003
DTEND;VALUE=DATE:20191007
DTSTAMP:20260425T121958
CREATED:20181211T231509Z
LAST-MODIFIED:20181211T231509Z
UID:535-1570060800-1570406399@www.districtsixbridge.org
SUMMARY:NVBA Fall Sectional Tournament
DESCRIPTION:
URL:https://www.districtsixbridge.org/tournament/nvba-fall-sectional-tournament/
LOCATION:Fairfax Elks Lodge\, 8421 Arlington Boulevard\, Fairfax\, VA\, 22031\, United States
CATEGORIES:Sectionals
END:VEVENT
BEGIN:VEVENT
DTSTART;VALUE=DATE:20190927
DTEND;VALUE=DATE:20190930
DTSTAMP:20260425T121958
CREATED:20181211T230318Z
LAST-MODIFIED:20181211T230318Z
UID:533-1569542400-1569801599@www.districtsixbridge.org
SUMMARY:Williamsburg Sectional
DESCRIPTION:
URL:https://www.districtsixbridge.org/tournament/williamsburg-sectional-2/
LOCATION:Williamsburg DoubleTree\, 50 Kings Mill Raod\, Williamsburg\, VA\, 23185\, United States
CATEGORIES:Sectionals
END:VEVENT
BEGIN:VEVENT
DTSTART;VALUE=DATE:20190921
DTEND;VALUE=DATE:20190923
DTSTAMP:20260425T121958
CREATED:20190715T033738Z
LAST-MODIFIED:20190715T033738Z
UID:1400-1569024000-1569196799@www.districtsixbridge.org
SUMMARY:District North American Pairs (NAP) Finals
DESCRIPTION:
URL:https://www.districtsixbridge.org/tournament/district-north-american-pairs-nap-finals/
LOCATION:VA
END:VEVENT
BEGIN:VEVENT
DTSTART;VALUE=DATE:20190914
DTEND;VALUE=DATE:20190916
DTSTAMP:20260425T121958
CREATED:20190715T033142Z
LAST-MODIFIED:20190715T033821Z
UID:1397-1568419200-1568591999@www.districtsixbridge.org
SUMMARY:Baltimore NLM Tournament
DESCRIPTION:
URL:https://www.districtsixbridge.org/tournament/baltimore-nlm-tournament/
LOCATION:Bridge Club of Baltimore\, 1319 Bedford Ave.\, Pikesville\, MD\, 21208\, United States
END:VEVENT
BEGIN:VEVENT
DTSTART;VALUE=DATE:20190913
DTEND;VALUE=DATE:20190916
DTSTAMP:20260425T121958
CREATED:20181211T230156Z
LAST-MODIFIED:20181211T230156Z
UID:531-1568332800-1568591999@www.districtsixbridge.org
SUMMARY:Virginia Beach Fall Sectional
DESCRIPTION:
URL:https://www.districtsixbridge.org/tournament/virginia-beach-fall-sectional/
LOCATION:Canceled\, 4966 Euclid Road\, Virginia Beach\, VA\, 23462\, United States
CATEGORIES:Sectionals
END:VEVENT
BEGIN:VEVENT
DTSTART;VALUE=DATE:20190905
DTEND;VALUE=DATE:20190909
DTSTAMP:20260425T121958
CREATED:20181211T230042Z
LAST-MODIFIED:20181211T230042Z
UID:529-1567641600-1567987199@www.districtsixbridge.org
SUMMARY:NVBA September Sensations Sectional
DESCRIPTION:
URL:https://www.districtsixbridge.org/tournament/nvba-september-sensations-sectional/
LOCATION:Fairfax Elks Lodge\, 8421 Arlington Boulevard\, Fairfax\, VA\, 22031\, United States
CATEGORIES:Sectionals
END:VEVENT
BEGIN:VEVENT
DTSTART;VALUE=DATE:20190824
DTEND;VALUE=DATE:20190826
DTSTAMP:20260425T121958
CREATED:20181211T225758Z
LAST-MODIFIED:20181211T225758Z
UID:525-1566604800-1566777599@www.districtsixbridge.org
SUMMARY:Virginia Beach NLM Sectional
DESCRIPTION:
URL:https://www.districtsixbridge.org/tournament/virginia-beach-nlm-sectional/
LOCATION:Canceled\, 4966 Euclid Road\, Virginia Beach\, VA\, 23462\, United States
CATEGORIES:NLM Sectionals
END:VEVENT
BEGIN:VEVENT
DTSTART;VALUE=DATE:20190812
DTEND;VALUE=DATE:20190819
DTSTAMP:20260425T121958
CREATED:20181211T225631Z
LAST-MODIFIED:20190412T134005Z
UID:522-1565568000-1566172799@www.districtsixbridge.org
SUMMARY:Hunt Valley Regional
DESCRIPTION:See separate Intermediate/Newcomer Flyer HuntValley2019IN Events \nFAQ’s for Round Robin Knockouts Round Robin Fact Sheet
URL:https://www.districtsixbridge.org/tournament/hunt-valley-regional/
LOCATION:Hunt Valley Inn\, 245 Shawan Road\, Hunt Valley\, MD\, 21031\, United States
CATEGORIES:Regionals
END:VEVENT
BEGIN:VEVENT
DTSTART;VALUE=DATE:20190712
DTEND;VALUE=DATE:20190715
DTSTAMP:20260425T121958
CREATED:20190111T160446Z
LAST-MODIFIED:20190111T160446Z
UID:988-1562889600-1563148799@www.districtsixbridge.org
SUMMARY:Mr. Jefferson Sectional
DESCRIPTION:
URL:https://www.districtsixbridge.org/tournament/mr-jefferson-sectional/
LOCATION:VA
CATEGORIES:Sectionals
END:VEVENT
BEGIN:VEVENT
DTSTART;VALUE=DATE:20190701
DTEND;VALUE=DATE:20190708
DTSTAMP:20260425T121958
CREATED:20181211T225437Z
LAST-MODIFIED:20190412T134213Z
UID:519-1561939200-1562543999@www.districtsixbridge.org
SUMMARY:National Capital 4th of July Regional
DESCRIPTION:See separate Intermediate/Newcomer Flyer Reston 2019 I-N Flyer \nFAQs for Round Robin Knockouts Round Robin Fact Sheet
URL:https://www.districtsixbridge.org/tournament/national-capital-4th-of-july-regional/
LOCATION:Hyatt Regency at Reston Town Center\, 1800 Presidents Street\, Reston\, VA\, 20190\, United States
CATEGORIES:Regionals
END:VEVENT
BEGIN:VEVENT
DTSTART;VALUE=DATE:20190628
DTEND;VALUE=DATE:20190701
DTSTAMP:20260425T121958
CREATED:20181211T225244Z
LAST-MODIFIED:20181211T225244Z
UID:517-1561680000-1561939199@www.districtsixbridge.org
SUMMARY:Richmond Summer Sectional
DESCRIPTION:
URL:https://www.districtsixbridge.org/tournament/richmond-summer-sectional/
LOCATION:ACCA Temple\, 1712 Bellevue Ave\, Richmond\, VA\, 23227\, United States
CATEGORIES:Sectionals
END:VEVENT
BEGIN:VEVENT
DTSTART;VALUE=DATE:20190621
DTEND;VALUE=DATE:20190624
DTSTAMP:20260425T121958
CREATED:20181211T225114Z
LAST-MODIFIED:20181211T225114Z
UID:515-1561075200-1561334399@www.districtsixbridge.org
SUMMARY:Virginia Beach Summer Sectional
DESCRIPTION:
URL:https://www.districtsixbridge.org/tournament/virginia-beach-summer-sectional/
LOCATION:Canceled\, 4966 Euclid Road\, Virginia Beach\, VA\, 23462\, United States
CATEGORIES:Sectionals
END:VEVENT
BEGIN:VEVENT
DTSTART;VALUE=DATE:20190610
DTEND;VALUE=DATE:20190617
DTSTAMP:20260425T121958
CREATED:20181211T225003Z
LAST-MODIFIED:20181211T225003Z
UID:512-1560124800-1560729599@www.districtsixbridge.org
SUMMARY:STaC D6
DESCRIPTION:
URL:https://www.districtsixbridge.org/tournament/stac-d6-5/
LOCATION:Various
CATEGORIES:STaCs
END:VEVENT
BEGIN:VEVENT
DTSTART;VALUE=DATE:20190607
DTEND;VALUE=DATE:20190610
DTSTAMP:20260425T121958
CREATED:20181211T224921Z
LAST-MODIFIED:20181211T224921Z
UID:510-1559865600-1560124799@www.districtsixbridge.org
SUMMARY:Baltimore Summer Sectional
DESCRIPTION:
URL:https://www.districtsixbridge.org/tournament/baltimore-summer-sectional/
LOCATION:American Legion Post 109\, 1610 Sulphur Spring Road\, Halethorpe\, MD\, 21227\, United States
CATEGORIES:Sectionals
END:VEVENT
BEGIN:VEVENT
DTSTART;VALUE=DATE:20190531
DTEND;VALUE=DATE:20190603
DTSTAMP:20260425T121958
CREATED:20181211T224739Z
LAST-MODIFIED:20181211T224739Z
UID:507-1559260800-1559519999@www.districtsixbridge.org
SUMMARY:Unit 231 Sectional
DESCRIPTION:
URL:https://www.districtsixbridge.org/tournament/unit-231-sectional/
LOCATION:Blacksburg Rec Center\, 725 Patrick Henry Drive\, Blacksburg\, VA\, 24060\, United States
CATEGORIES:Sectionals
END:VEVENT
BEGIN:VEVENT
DTSTART;VALUE=DATE:20190530
DTEND;VALUE=DATE:20190603
DTSTAMP:20260425T121958
CREATED:20181211T224551Z
LAST-MODIFIED:20181211T224551Z
UID:505-1559174400-1559519999@www.districtsixbridge.org
SUMMARY:74th Annual Potomac Valley Tournament Sectional
DESCRIPTION:
URL:https://www.districtsixbridge.org/tournament/74th-annual-potomac-valley-tournament-sectional/
LOCATION:Margaret Schweinhaut Senior Center\, 1000 Forest Glen Rd\, Silver Spring\, MD\, 20901\, United States
CATEGORIES:Sectionals
END:VEVENT
BEGIN:VEVENT
DTSTART;VALUE=DATE:20190520
DTEND;VALUE=DATE:20190527
DTSTAMP:20260425T121958
CREATED:20181211T224416Z
LAST-MODIFIED:20190412T134516Z
UID:502-1558310400-1558915199@www.districtsixbridge.org
SUMMARY:Richmond Memorial Day Regional
DESCRIPTION:FAQs for Round Robin Knockouts Round Robin Fact Sheet
URL:https://www.districtsixbridge.org/tournament/richmond-memorial-day-regional/
LOCATION:DoubleTree Richmond-Midlothian\, 10800 Midlothian Turnpike\, Richmond\, VA\, 23235\, United States
CATEGORIES:Regionals
END:VEVENT
BEGIN:VEVENT
DTSTART;VALUE=DATE:20190516
DTEND;VALUE=DATE:20190518
DTSTAMP:20260425T121958
CREATED:20181211T224152Z
LAST-MODIFIED:20181211T224152Z
UID:499-1557964800-1558137599@www.districtsixbridge.org
SUMMARY:Blue Crab Sectional
DESCRIPTION:
URL:https://www.districtsixbridge.org/tournament/blue-crab-sectional/
LOCATION:American Legion Post 91\, 601 Radiance Drive\, Cambridge\, MD\, 21673\, United States
CATEGORIES:Sectionals
END:VEVENT
END:VCALENDAR