BEGIN:VCALENDAR
VERSION:2.0
PRODID:-//District Six Bridge - ECPv6.9.0//NONSGML v1.0//EN
CALSCALE:GREGORIAN
METHOD:PUBLISH
X-WR-CALNAME:District Six Bridge
X-ORIGINAL-URL:https://www.districtsixbridge.org
X-WR-CALDESC:Events for District Six Bridge
REFRESH-INTERVAL;VALUE=DURATION:PT1H
X-Robots-Tag:noindex
X-PUBLISHED-TTL:PT1H
BEGIN:VTIMEZONE
TZID:America/New_York
BEGIN:DAYLIGHT
TZOFFSETFROM:-0500
TZOFFSETTO:-0400
TZNAME:EDT
DTSTART:20200308T070000
END:DAYLIGHT
BEGIN:STANDARD
TZOFFSETFROM:-0400
TZOFFSETTO:-0500
TZNAME:EST
DTSTART:20201101T060000
END:STANDARD
BEGIN:DAYLIGHT
TZOFFSETFROM:-0500
TZOFFSETTO:-0400
TZNAME:EDT
DTSTART:20210314T070000
END:DAYLIGHT
BEGIN:STANDARD
TZOFFSETFROM:-0400
TZOFFSETTO:-0500
TZNAME:EST
DTSTART:20211107T060000
END:STANDARD
BEGIN:DAYLIGHT
TZOFFSETFROM:-0500
TZOFFSETTO:-0400
TZNAME:EDT
DTSTART:20220313T070000
END:DAYLIGHT
BEGIN:STANDARD
TZOFFSETFROM:-0400
TZOFFSETTO:-0500
TZNAME:EST
DTSTART:20221106T060000
END:STANDARD
END:VTIMEZONE
BEGIN:VEVENT
DTSTART;VALUE=DATE:20221007
DTEND;VALUE=DATE:20221010
DTSTAMP:20260424T101007
CREATED:20220923T122325Z
LAST-MODIFIED:20220929T141845Z
UID:3800-1665100800-1665359999@www.districtsixbridge.org
SUMMARY:Richmond Bridge Fall Sectional
DESCRIPTION:Separate\, NLM 0-300 games both Friday & Saturday\n  \nFriday\, October 7 – Newcomer Lecture                                                  9:45 a.m.\nNLM 0-300 game and Stratified Open Pairs (750/2500/2500+)                                       10:30 a.m. / 3:00 p.m.  \n  \nSaturday\, October 8 – Newcomer Lecture                                             9:45 a.m.\nNLM 0-300 game and Stratified Open Pairs (750/2500/2500+)                                        10:30 a.m.  \nStratified Pairs/Board-a-Match Teams                                                                                   3:00 p.m. \nOpen stratified pairs game. For the same game\, each pair is teamed according to Master Points (highest to lowest). Two Chances to Win!!! \n  \nSunday\, October 9- Free coffee\, bagels\, snacks\, and donuts\nStratified Open Swiss and under 500 Swiss Teams                                                              10:30 a.m. \nPlay through\, lunch served between sessions.  \nProof of Vaccination Required
URL:https://www.districtsixbridge.org/tournament/richmond-bridge-fall-sectional/
LOCATION:Guzman Community Center at the Faison Center 5200 Fitzhugh Ave.\, Richmond VA 23230\, 5200 Fitzhugh Ave\, Richmond\, VA\, 23230\, United States
CATEGORIES:Sectionals
END:VEVENT
BEGIN:VEVENT
DTSTART;VALUE=DATE:20220929
DTEND;VALUE=DATE:20221003
DTSTAMP:20260424T101007
CREATED:20220609T212531Z
LAST-MODIFIED:20220609T212531Z
UID:3643-1664409600-1664755199@www.districtsixbridge.org
SUMMARY:WBL - 90th Annual DC Championships
DESCRIPTION:
URL:https://www.districtsixbridge.org/tournament/wbl-90th-annual-dc-championships/
LOCATION:Margaret Schweinhaut Senior Center\, 1000 Forest Glen Rd\, Silver Spring\, MD\, 20901\, United States
CATEGORIES:Sectionals
END:VEVENT
BEGIN:VEVENT
DTSTART;TZID=America/New_York:20220908T080000
DTEND;TZID=America/New_York:20220911T170000
DTSTAMP:20260424T101007
CREATED:20210701T022409Z
LAST-MODIFIED:20210701T022409Z
UID:2519-1662624000-1662915600@www.districtsixbridge.org
SUMMARY:NVBA September Sensations Sectional
DESCRIPTION:
URL:https://www.districtsixbridge.org/tournament/nvba-september-sensations-sectional-3/
LOCATION:Fairfax Elks Lodge\, 8421 Arlington Boulevard\, Fairfax\, VA\, 22031\, United States
CATEGORIES:Sectionals
END:VEVENT
BEGIN:VEVENT
DTSTART;VALUE=DATE:20220822
DTEND;VALUE=DATE:20220829
DTSTAMP:20260424T101007
CREATED:20220524T224147Z
LAST-MODIFIED:20220817T130017Z
UID:3501-1661126400-1661731199@www.districtsixbridge.org
SUMMARY:Baltimore Regional
DESCRIPTION:Hilton Baltimore Inner Harbor\n401 West Pratt Street\, Baltimore\, Maryland 21201\nNew D6 site in a vibrant area next to the iconic Camden Yards ballpark\,\na short stroll to the thriving waterfront of the Inner Harbor\, full of pubs\,\nrestaurants\, and lively entertainment. \nNOTICE: Baltimore Regional hotel reservations  \nThe hotel is NOT accepting phone reservations for the bridge rate. Click HERE to book online at the bridge rate. \n  \nNovice & Intermediate program:\n• Bridge University Monday a.m.\n• Daily guest lectures\n• Gold point games every day \n** 0-20 MP players FREE Tuesday\, August 23 ** \n  \nACBL and local Covid protocols will be followed.\nRegional will be cashless – bring your plastic!\nwww.districtsixbridge.org – for full details \nBaltimore Regional 2022 Flyer \nBaltimore 2022 FLYER Insert \nBaltimore 2022 I/N Flyer \nBaltimore Website ENTRIES \nBaltimore Website Parking        Baltimore Website Ballroom Layout \nBaltimore Website Covid Policy         Baltimore Website Orioles schedule
URL:https://www.districtsixbridge.org/tournament/baltimore-regional-august-22-28-2022/
LOCATION:Baltimore Inner Harbor Hilton
CATEGORIES:Regionals
END:VEVENT
BEGIN:VEVENT
DTSTART;VALUE=DATE:20220729
DTEND;VALUE=DATE:20220801
DTSTAMP:20260424T101007
CREATED:20220423T194104Z
LAST-MODIFIED:20220614T133206Z
UID:3445-1659052800-1659311999@www.districtsixbridge.org
SUMMARY:Virginia Beach Summer Sectional
DESCRIPTION:
URL:https://www.districtsixbridge.org/tournament/virginia-beach-summer-sectional-2/
LOCATION:Unit 146 Bridge Center\, 4966 Euclid Road\, Virginia Beach\, VA\, 23462\, United States
CATEGORIES:Sectionals
END:VEVENT
BEGIN:VEVENT
DTSTART;VALUE=DATE:20220708
DTEND;VALUE=DATE:20220711
DTSTAMP:20260424T101007
CREATED:20220424T181541Z
LAST-MODIFIED:20220525T224428Z
UID:3453-1657238400-1657497599@www.districtsixbridge.org
SUMMARY:Mr. Jefferson's Sectional - Charlottesville\, VA area
DESCRIPTION:ACBL UNIT 139 Presents…..\nMR. JEFFERSON’S SECTIONAL\nKESWICK\, VA\nJuly 8-10\, 2022 \nFriday\, July 8\n10:30 AM Stratified Open Pairs; Separate 199ers\n40% more masterpoints helps fund GNTs & NAPs \n3:30 PM Stratified Open Pairs; Separate 199 \n  \nSaturday\, July 9  \n10:30 AM Stratified Open Pairs; Separate 199ers\n40% more masterpoints helps fund GNTs & NAPs \n3:30 PM Stratified Open Pairs; Separate 199ers \nSunday\, July 10\n10:30 AM & TBA Stratified Swiss Teams\nLunch provided \n$12 per person entry fee; $9 for 0-20; $100/team includes lunch\n$4 additional per person for unpaid ACBL members; Non-members must join. \nAll Stratifications by average masterpoints – no individual may exceed the event’s upper limit \nFriday and Saturday Stratifications: 0-750\, 750-2000\, 2000+ plus 199ers \nProof of Vaccination Required. Mask requirement will follow ACBL &\nCounty guidelines at the time of tournament \nPlaying Site:\nEast Rivanna Firehouse and Banquet Hall\n3501 Steamer Drive\nKeswick\, VA 22947
URL:https://www.districtsixbridge.org/tournament/mr-jeffersons-sectional-charlottesville-va-area/
LOCATION:East Rivanna Firehouse & Banquet Hall\, 3501 Steamer Drive\, Keswick\, VA\, 22947
CATEGORIES:Sectionals
END:VEVENT
BEGIN:VEVENT
DTSTART;VALUE=DATE:20220613
DTEND;VALUE=DATE:20220620
DTSTAMP:20260424T101007
CREATED:20220423T194503Z
LAST-MODIFIED:20220423T194503Z
UID:3449-1655078400-1655683199@www.districtsixbridge.org
SUMMARY:District 6 Summer STaC
DESCRIPTION:
URL:https://www.districtsixbridge.org/tournament/district-6-summer-stac/
LOCATION:All Clubs
CATEGORIES:STaCs
END:VEVENT
BEGIN:VEVENT
DTSTART;VALUE=DATE:20220512
DTEND;VALUE=DATE:20220516
DTSTAMP:20260424T101007
CREATED:20210701T022157Z
LAST-MODIFIED:20210701T022157Z
UID:2517-1652313600-1652659199@www.districtsixbridge.org
SUMMARY:NVBA Spring Sectional
DESCRIPTION:
URL:https://www.districtsixbridge.org/tournament/nvba-spring-sectional-3/
LOCATION:Fairfax Elks Lodge\, 8421 Arlington Boulevard\, Fairfax\, VA\, 22031\, United States
CATEGORIES:Sectionals
END:VEVENT
BEGIN:VEVENT
DTSTART;TZID=America/New_York:20220507T080000
DTEND;TZID=America/New_York:20220508T170000
DTSTAMP:20260424T101007
CREATED:20220303T160311Z
LAST-MODIFIED:20220303T160311Z
UID:3421-1651910400-1652029200@www.districtsixbridge.org
SUMMARY:GNT Open Flight 2nd Weekend
DESCRIPTION:
URL:https://www.districtsixbridge.org/tournament/gnt-open-flight-2nd-weekend/
END:VEVENT
BEGIN:VEVENT
DTSTART;TZID=America/New_York:20220501T080000
DTEND;TZID=America/New_York:20220501T170000
DTSTAMP:20260424T101007
CREATED:20220303T160237Z
LAST-MODIFIED:20220303T160237Z
UID:3419-1651392000-1651424400@www.districtsixbridge.org
SUMMARY:GNT Flight C 2nd Weekend
DESCRIPTION:
URL:https://www.districtsixbridge.org/tournament/gnt-flight-c-2nd-weekend/
CATEGORIES:GNT Finals
END:VEVENT
BEGIN:VEVENT
DTSTART;TZID=America/New_York:20220430T080000
DTEND;TZID=America/New_York:20220501T170000
DTSTAMP:20260424T101007
CREATED:20220303T160207Z
LAST-MODIFIED:20220303T160207Z
UID:3417-1651305600-1651424400@www.districtsixbridge.org
SUMMARY:GNT Flight B 2nd Weekend
DESCRIPTION:
URL:https://www.districtsixbridge.org/tournament/gnt-flight-b-2nd-weekend/
CATEGORIES:GNT Finals
END:VEVENT
BEGIN:VEVENT
DTSTART;VALUE=DATE:20220422
DTEND;VALUE=DATE:20220425
DTSTAMP:20260424T101007
CREATED:20220423T193858Z
LAST-MODIFIED:20220423T193858Z
UID:3443-1650585600-1650844799@www.districtsixbridge.org
SUMMARY:Virginia Beach Spring Sectional
DESCRIPTION:
URL:https://www.districtsixbridge.org/tournament/virginia-beach-spring-sectional-2/
LOCATION:Unit 146 Bridge Center\, 4966 Euclid Road\, Virginia Beach\, VA\, 23462\, United States
CATEGORIES:Sectionals
END:VEVENT
BEGIN:VEVENT
DTSTART;TZID=America/New_York:20220411T080000
DTEND;TZID=America/New_York:20220417T170000
DTSTAMP:20260424T101007
CREATED:20220303T155610Z
LAST-MODIFIED:20220303T155610Z
UID:3412-1649664000-1650214800@www.districtsixbridge.org
SUMMARY:District 6/District 12/District 14 Royal STaC
DESCRIPTION:
URL:https://www.districtsixbridge.org/tournament/district-6-district-12-district-14-royal-stac/
LOCATION:All Clubs
CATEGORIES:STaCs
END:VEVENT
BEGIN:VEVENT
DTSTART;TZID=America/New_York:20220402T080000
DTEND;TZID=America/New_York:20220403T170000
DTSTAMP:20260424T101007
CREATED:20220303T160118Z
LAST-MODIFIED:20220303T160118Z
UID:3415-1648886400-1649005200@www.districtsixbridge.org
SUMMARY:Flight A GNT 2nd Weekend
DESCRIPTION:
URL:https://www.districtsixbridge.org/tournament/flight-a-gnt-2nd-weekend/
CATEGORIES:GNT Finals
END:VEVENT
BEGIN:VEVENT
DTSTART;VALUE=DATE:20220401
DTEND;VALUE=DATE:20220404
DTSTAMP:20260424T101007
CREATED:20220225T221304Z
LAST-MODIFIED:20220319T124233Z
UID:3397-1648771200-1649030399@www.districtsixbridge.org
SUMMARY:Lynchburg Sectional
DESCRIPTION:Great Location!!!! Forest Recreation Center \nFriday\, April 1:\nStratified Pairs (0-500\, 500-2000\, 2000+)*………………..10:00 A.M. & 2:00 P.M. \nSaturday\, April 2:\nStratified Pairs (0-500\, 500-2000\, 2000+)*………………..10:00 A.M. & 2:00 P.M. \nSunday\, April 3:\nStratified Swiss Teams (0-500\, 500-2000\, 2000+)*…………….10:00 A.M.\n* Strata may be modified by Tournament Director based on attendance \nEntry $10 per person per session\nSunday Team game $100 per team \nPlenty of homemade food and catered lunch on Sunday!!!\nProof of vaccination required; masks recommended. \nLa Quinta Inn & Suites\n3320 Candlers Mtn Road\nLynchburg\, VA 24502\n434-847-8655\nBridge rate: $129 + tax\nBook by March 25
URL:https://www.districtsixbridge.org/tournament/lynchburg-sectional/
LOCATION:Forest Recreation Center\, 1088 Rustic Village Road\, Forest\, VA\, United States
CATEGORIES:Sectionals
END:VEVENT
BEGIN:VEVENT
DTSTART;VALUE=DATE:20220124
DTEND;VALUE=DATE:20220131
DTSTAMP:20260424T101007
CREATED:20211022T012822Z
LAST-MODIFIED:20211022T012822Z
UID:3146-1642982400-1643587199@www.districtsixbridge.org
SUMMARY:D6 Winter STaC
DESCRIPTION:
URL:https://www.districtsixbridge.org/tournament/d6-winter-stac/
CATEGORIES:STaCs
END:VEVENT
BEGIN:VEVENT
DTSTART;VALUE=DATE:20211213
DTEND;VALUE=DATE:20211220
DTSTAMP:20260424T101007
CREATED:20211022T012639Z
LAST-MODIFIED:20211022T012639Z
UID:3144-1639353600-1639958399@www.districtsixbridge.org
SUMMARY:D6 Holiday STaC
DESCRIPTION:
URL:https://www.districtsixbridge.org/tournament/d6-holiday-stac/
CATEGORIES:STaCs
END:VEVENT
BEGIN:VEVENT
DTSTART;TZID=America/New_York:20211018T080000
DTEND;TZID=America/New_York:20211024T170000
DTSTAMP:20260424T101007
CREATED:20211022T012350Z
LAST-MODIFIED:20211022T012350Z
UID:3142-1634544000-1635094800@www.districtsixbridge.org
SUMMARY:D6 Fall STaC
DESCRIPTION:
URL:https://www.districtsixbridge.org/tournament/d6-fall-stac/
CATEGORIES:STaCs
END:VEVENT
BEGIN:VEVENT
DTSTART;VALUE=DATE:20210910
DTEND;VALUE=DATE:20210913
DTSTAMP:20260424T101007
CREATED:20210505T171629Z
LAST-MODIFIED:20210505T171648Z
UID:2280-1631232000-1631491199@www.districtsixbridge.org
SUMMARY:Norfolk/VA Beach Sectional
DESCRIPTION:
URL:https://www.districtsixbridge.org/tournament/norfolk-va-beach-sectional/
LOCATION:Unit 146 Bridge Center\, 4966 Euclid Road\, Virginia Beach\, VA\, 23462\, United States
CATEGORIES:Sectionals
END:VEVENT
BEGIN:VEVENT
DTSTART;VALUE=DATE:20210821
DTEND;VALUE=DATE:20210823
DTSTAMP:20260424T101007
CREATED:20210505T171213Z
LAST-MODIFIED:20210505T171958Z
UID:2277-1629504000-1629676799@www.districtsixbridge.org
SUMMARY:Norfolk/VA Beach NLM Sectional
DESCRIPTION:
URL:https://www.districtsixbridge.org/tournament/norfolk-va-beach-nlm-sectional/
LOCATION:Unit 146 Bridge Center\, 4966 Euclid Road\, Virginia Beach\, VA\, 23462\, United States
CATEGORIES:NLM Sectionals
END:VEVENT
BEGIN:VEVENT
DTSTART;VALUE=DATE:20201109
DTEND;VALUE=DATE:20201116
DTSTAMP:20260424T101007
CREATED:20191013T232338Z
LAST-MODIFIED:20200618T163634Z
UID:1710-1604880000-1605484799@www.districtsixbridge.org
SUMMARY:Chesapeake Regional--Canceled
DESCRIPTION:
URL:https://www.districtsixbridge.org/tournament/chesapeake-regional-2/
LOCATION:Hyatt Regency Chesapeake Bay Resort\, 100 Heron Blvd\, Cambridge\, MD\, 21613\, United States
CATEGORIES:Regionals
END:VEVENT
BEGIN:VEVENT
DTSTART;TZID=America/New_York:20201022T080000
DTEND;TZID=America/New_York:20201025T170000
DTSTAMP:20260424T101007
CREATED:20191013T231900Z
LAST-MODIFIED:20200619T030951Z
UID:1706-1603353600-1603645200@www.districtsixbridge.org
SUMMARY:90th Annual DC Championship - Canceled
DESCRIPTION:
URL:https://www.districtsixbridge.org/tournament/90th-annual-dc-championship/
CATEGORIES:Sectionals
END:VEVENT
BEGIN:VEVENT
DTSTART;VALUE=DATE:20201001
DTEND;VALUE=DATE:20201005
DTSTAMP:20260424T101007
CREATED:20191013T231723Z
LAST-MODIFIED:20200618T214400Z
UID:1704-1601510400-1601855999@www.districtsixbridge.org
SUMMARY:NVBA Fall Sectional - Canceled
DESCRIPTION:
URL:https://www.districtsixbridge.org/tournament/nvba-fall-sectional/
LOCATION:Fairfax Elks Lodge\, 8421 Arlington Boulevard\, Fairfax\, VA\, 22031\, United States
CATEGORIES:Sectionals
END:VEVENT
BEGIN:VEVENT
DTSTART;VALUE=DATE:20200925
DTEND;VALUE=DATE:20200928
DTSTAMP:20260424T101007
CREATED:20191013T230220Z
LAST-MODIFIED:20200523T144142Z
UID:1702-1600992000-1601251199@www.districtsixbridge.org
SUMMARY:Williamsburg Fall Sectional - Canceled
DESCRIPTION:
URL:https://www.districtsixbridge.org/tournament/williamsburg-fall-sectional-2/
LOCATION:Williamsburg DoubleTree\, 50 Kings Mill Raod\, Williamsburg\, VA\, 23185\, United States
CATEGORIES:Sectionals
END:VEVENT
BEGIN:VEVENT
DTSTART;TZID=America/New_York:20200911T080000
DTEND;TZID=America/New_York:20200913T170000
DTSTAMP:20260424T101007
CREATED:20191013T225915Z
LAST-MODIFIED:20200618T215439Z
UID:1700-1599811200-1600016400@www.districtsixbridge.org
SUMMARY:VA Beach Fall Sectional - Canceled
DESCRIPTION:
URL:https://www.districtsixbridge.org/tournament/va-beach-fall-sectional/
LOCATION:Unit 146 Bridge Center\, 4966 Euclid Road\, Virginia Beach\, VA\, 23462\, United States
CATEGORIES:Sectionals
END:VEVENT
BEGIN:VEVENT
DTSTART;VALUE=DATE:20200910
DTEND;VALUE=DATE:20200914
DTSTAMP:20260424T101007
CREATED:20191013T225550Z
LAST-MODIFIED:20200618T214438Z
UID:1698-1599696000-1600041599@www.districtsixbridge.org
SUMMARY:NVBA September Sensations Sectional - Canceled
DESCRIPTION:
URL:https://www.districtsixbridge.org/tournament/nvba-september-sensations-sectional-2/
LOCATION:Fairfax Elks Lodge\, 8421 Arlington Boulevard\, Fairfax\, VA\, 22031\, United States
CATEGORIES:Sectionals
END:VEVENT
BEGIN:VEVENT
DTSTART;VALUE=DATE:20200822
DTEND;VALUE=DATE:20200824
DTSTAMP:20260424T101007
CREATED:20191013T224957Z
LAST-MODIFIED:20200618T214534Z
UID:1695-1598054400-1598227199@www.districtsixbridge.org
SUMMARY:Norfolk/Virginia Beach NLM Tournament - Canceled
DESCRIPTION:
URL:https://www.districtsixbridge.org/tournament/norfolk-virginia-beach-nlm-tournament/
LOCATION:Unit 146 Bridge Center\, 4966 Euclid Road\, Virginia Beach\, VA\, 23462\, United States
CATEGORIES:NLM Sectionals
END:VEVENT
BEGIN:VEVENT
DTSTART;VALUE=DATE:20200817
DTEND;VALUE=DATE:20200824
DTSTAMP:20260424T101007
CREATED:20191013T232158Z
LAST-MODIFIED:20200523T144320Z
UID:1708-1597622400-1598227199@www.districtsixbridge.org
SUMMARY:Baltimore Summer Regional - Canceled
DESCRIPTION:
URL:https://www.districtsixbridge.org/tournament/baltimore-summer-regional/
LOCATION:Baltimore Inner Harbor Hilton
CATEGORIES:Regionals
END:VEVENT
BEGIN:VEVENT
DTSTART;TZID=America/New_York:20200807T080000
DTEND;TZID=America/New_York:20200809T170000
DTSTAMP:20260424T101007
CREATED:20191013T224444Z
LAST-MODIFIED:20200602T232310Z
UID:1693-1596787200-1596992400@www.districtsixbridge.org
SUMMARY:Mr. Jefferson Sectional - Canceled
DESCRIPTION:
URL:https://www.districtsixbridge.org/tournament/mr-jefferson-sectional-2/
LOCATION:Best Western Plus Crossroads Inn & Suites 135 Wood Ridge Terrace\, Zion Crossroads\, VA 22942\, 135 Wood Ridge Terrace\, Zion Crossroads\, VA\, 22942\, United States
CATEGORIES:Sectionals
END:VEVENT
BEGIN:VEVENT
DTSTART;VALUE=DATE:20200629
DTEND;VALUE=DATE:20200706
DTSTAMP:20260424T101007
CREATED:20191013T223136Z
LAST-MODIFIED:20200515T194005Z
UID:1691-1593388800-1593993599@www.districtsixbridge.org
SUMMARY:National Capital Regional in Reston\, VA - Canceled
DESCRIPTION:
URL:https://www.districtsixbridge.org/tournament/national-capital-regional-in-reston-va/
LOCATION:Hyatt Regency at Reston Town Center\, 1800 Presidents Street\, Reston\, VA\, 20190\, United States
CATEGORIES:Regionals
END:VEVENT
END:VCALENDAR