BEGIN:VCALENDAR
VERSION:2.0
PRODID:-//District Six Bridge - ECPv6.9.0//NONSGML v1.0//EN
CALSCALE:GREGORIAN
METHOD:PUBLISH
X-WR-CALNAME:District Six Bridge
X-ORIGINAL-URL:https://www.districtsixbridge.org
X-WR-CALDESC:Events for District Six Bridge
REFRESH-INTERVAL;VALUE=DURATION:PT1H
X-Robots-Tag:noindex
X-PUBLISHED-TTL:PT1H
BEGIN:VTIMEZONE
TZID:America/New_York
BEGIN:DAYLIGHT
TZOFFSETFROM:-0500
TZOFFSETTO:-0400
TZNAME:EDT
DTSTART:20250309T070000
END:DAYLIGHT
BEGIN:STANDARD
TZOFFSETFROM:-0400
TZOFFSETTO:-0500
TZNAME:EST
DTSTART:20251102T060000
END:STANDARD
END:VTIMEZONE
BEGIN:VEVENT
DTSTART;VALUE=DATE:20250911
DTEND;VALUE=DATE:20250915
DTSTAMP:20260423T191721
CREATED:20250116T162727Z
LAST-MODIFIED:20250116T162727Z
UID:5105-1757548800-1757894399@www.districtsixbridge.org
SUMMARY:NVBA Fall Sectional
DESCRIPTION:
URL:https://www.districtsixbridge.org/tournament/nvba-fall-sectional-5/
LOCATION:Fairfax Elks Lodge\, 8421 Arlington Boulevard\, Fairfax\, VA\, 22031\, United States
CATEGORIES:Sectionals
END:VEVENT
BEGIN:VEVENT
DTSTART;VALUE=DATE:20250913
DTEND;VALUE=DATE:20250915
DTSTAMP:20260423T191721
CREATED:20250719T010150Z
LAST-MODIFIED:20250719T010150Z
UID:5588-1757721600-1757894399@www.districtsixbridge.org
SUMMARY:VA Beach NLM Tournament
DESCRIPTION:
URL:https://www.districtsixbridge.org/tournament/va-beach-nlm-tournament/
LOCATION:Bridge Center at Hampton Roads\, 817 Kempsville Road\, Virginia Beach\, VA\, 23451\, United States
CATEGORIES:NLM Sectionals
END:VEVENT
BEGIN:VEVENT
DTSTART;VALUE=DATE:20250922
DTEND;VALUE=DATE:20250929
DTSTAMP:20260423T191721
CREATED:20241010T222953Z
LAST-MODIFIED:20241010T222953Z
UID:5007-1758499200-1759103999@www.districtsixbridge.org
SUMMARY:District 6 Fall STaC
DESCRIPTION:
URL:https://www.districtsixbridge.org/tournament/district-6-fall-stac/
LOCATION:All Clubs
CATEGORIES:STaCs
END:VEVENT
END:VCALENDAR