BEGIN:VCALENDAR
VERSION:2.0
PRODID:-//District Six Bridge - ECPv6.9.0//NONSGML v1.0//EN
CALSCALE:GREGORIAN
METHOD:PUBLISH
X-ORIGINAL-URL:https://www.districtsixbridge.org
X-WR-CALDESC:Events for District Six Bridge
REFRESH-INTERVAL;VALUE=DURATION:PT1H
X-Robots-Tag:noindex
X-PUBLISHED-TTL:PT1H
BEGIN:VTIMEZONE
TZID:America/New_York
BEGIN:DAYLIGHT
TZOFFSETFROM:-0500
TZOFFSETTO:-0400
TZNAME:EDT
DTSTART:20250309T070000
END:DAYLIGHT
BEGIN:STANDARD
TZOFFSETFROM:-0400
TZOFFSETTO:-0500
TZNAME:EST
DTSTART:20251102T060000
END:STANDARD
END:VTIMEZONE
BEGIN:VEVENT
DTSTART;VALUE=DATE:20250808
DTEND;VALUE=DATE:20250811
DTSTAMP:20260423T203233
CREATED:20250627T201916Z
LAST-MODIFIED:20250627T212550Z
UID:5561-1754611200-1754870399@www.districtsixbridge.org
SUMMARY:Unit 139 Sectional
DESCRIPTION:ACBL UNIT 139 presents…..MR. JEFFERSON’S SECTIONAL \nKESWICK\, VA \nAugust 8-10\, 2025 \n  \nFriday\, August 8 \n10:00 AM        Stratified Open Pairs; Separate 299ers                                 Tournament Chair: \n         Grass Roots Game at same price:   40% more masterpoints help         Betsy Ruehl \n            fund GNTs & NAPs                                                                               (540) 942-3667 \netruehl@ntelos.net \n2:30 PM          Stratified Open Pairs; Separate 299ers \n  \n  \nSaturday\, August 9                                                                                         Partnership Chair: \n10:00 AM        Stratified Open Pairs; Separate 299er                                   Eberhard Jehle \nGrass Roots Game at same price:   40% more masterpoints help             (434) 825-4696 \nfund GNTs & NAPs                                                                               evkjehle@gmail.com \n  \n2:30 PM          Stratified Open Pairs; Separate 299ers \n  \n  \nSunday\, August 10 \n10:00 AM & TBA         Stratified Swiss Teams                                               Unit 139 Board \nLunch provided                                                                                      Meeting between \nsessions Saturday \n  \n  \n$15 entry fee; $10 for 0-20 and students; $140/team includes lunch \n$4 additional per person for unpaid ACBL members; Players must have ACBL number. \n  \nAll Stratifications by average masterpoints – no individual may exceed the event’s upper limit – \nor at Director’s Discretion \n  \nFriday and Saturday Stratifications: 0-750\, 750-2000\, 2000+ plus 299ers \n  \nPlaying Site: \nEast Rivanna Firehouse and Banquet Hall \n3501 Steamer Drive \nKeswick\, VA 22947             Via I-64 – 5 min. east of Charlottesville; 55 min. west of Richmond \n  \nDirections:  From the east\, take the Keswick exit (129) from I-64. Turn left. Go ½ mile to the first traffic light. Turn right onto route 250 headed west. Go 2 ½ miles to the next traffic light. Turn left onto Glenmore Way. \nFrom the west: Take the Shadwell exit (124) from I-64. Turn right onto route 250 headed east. Go 3 miles to the third traffic light. Turn right onto Glenmore Way. \n  \nOnce on Glenmore Way\, take the first possible left (Steamer Drive). Cross the outbound lane into Rivanna Village. Follow Steamer Drive to the right. Go past the firehouse and park in the event parking area. Please leave nearby parking spaces for those who are less mobile. \n 
URL:https://www.districtsixbridge.org/tournament/unit-139-sectional/
LOCATION:East Rivanna Firehouse & Banquet Hall\, 3501 Steamer Drive\, Keswick\, VA\, 22947
CATEGORIES:Sectionals
END:VEVENT
BEGIN:VEVENT
DTSTART;VALUE=DATE:20250818
DTEND;VALUE=DATE:20250823
DTSTAMP:20260423T203233
CREATED:20241030T202935Z
LAST-MODIFIED:20241030T202935Z
UID:5025-1755475200-1755907199@www.districtsixbridge.org
SUMMARY:Maryland Live! Summer Regional
DESCRIPTION:
URL:https://www.districtsixbridge.org/tournament/maryland-live-summer-regional/
LOCATION:Live! Casino and Hotel\, 7002 Arundel Mills Circle\, Hanover\, MD\, 21076\, United States
CATEGORIES:Regionals
END:VEVENT
END:VCALENDAR