BEGIN:VCALENDAR
VERSION:2.0
PRODID:-//District Six Bridge - ECPv6.9.0//NONSGML v1.0//EN
CALSCALE:GREGORIAN
METHOD:PUBLISH
X-ORIGINAL-URL:https://www.districtsixbridge.org
X-WR-CALDESC:Events for District Six Bridge
REFRESH-INTERVAL;VALUE=DURATION:PT1H
X-Robots-Tag:noindex
X-PUBLISHED-TTL:PT1H
BEGIN:VTIMEZONE
TZID:America/New_York
BEGIN:DAYLIGHT
TZOFFSETFROM:-0500
TZOFFSETTO:-0400
TZNAME:EDT
DTSTART:20240310T070000
END:DAYLIGHT
BEGIN:STANDARD
TZOFFSETFROM:-0400
TZOFFSETTO:-0500
TZNAME:EST
DTSTART:20241103T060000
END:STANDARD
END:VTIMEZONE
BEGIN:VEVENT
DTSTART;VALUE=DATE:20240607
DTEND;VALUE=DATE:20240610
DTSTAMP:20260424T160425
CREATED:20231207T205400Z
LAST-MODIFIED:20231207T205430Z
UID:4541-1717718400-1717977599@www.districtsixbridge.org
SUMMARY:Baltimore Summer Sectional
DESCRIPTION:
URL:https://www.districtsixbridge.org/tournament/baltimore-summer-sectional-4/
LOCATION:Immanuel United Church of Christ\, 1905 Edmondson Ave\, Catonsville\, MD\, 21228\, United States
CATEGORIES:Sectionals
END:VEVENT
BEGIN:VEVENT
DTSTART;VALUE=DATE:20240607
DTEND;VALUE=DATE:20240610
DTSTAMP:20260424T160425
CREATED:20240211T195429Z
LAST-MODIFIED:20240211T200030Z
UID:4684-1717718400-1717977599@www.districtsixbridge.org
SUMMARY:Richmond Summer Sectional
DESCRIPTION:
URL:https://www.districtsixbridge.org/tournament/richmond-summer-sectional-3/
LOCATION:Guzman Community Center at the Faison Center 5200 Fitzhugh Ave.\, Richmond VA 23230\, 5200 Fitzhugh Ave\, Richmond\, VA\, 23230\, United States
CATEGORIES:Sectionals
END:VEVENT
BEGIN:VEVENT
DTSTART;VALUE=DATE:20240610
DTEND;VALUE=DATE:20240617
DTSTAMP:20260424T160425
CREATED:20240203T112459Z
LAST-MODIFIED:20240203T112459Z
UID:4658-1717977600-1718582399@www.districtsixbridge.org
SUMMARY:District Six STAC
DESCRIPTION:
URL:https://www.districtsixbridge.org/tournament/district-six-stac-2/
LOCATION:VA
CATEGORIES:STaCs
END:VEVENT
END:VCALENDAR