BEGIN:VCALENDAR
VERSION:2.0
PRODID:-//District Six Bridge - ECPv6.9.0//NONSGML v1.0//EN
CALSCALE:GREGORIAN
METHOD:PUBLISH
X-WR-CALNAME:District Six Bridge
X-ORIGINAL-URL:https://www.districtsixbridge.org
X-WR-CALDESC:Events for District Six Bridge
REFRESH-INTERVAL;VALUE=DURATION:PT1H
X-Robots-Tag:noindex
X-PUBLISHED-TTL:PT1H
BEGIN:VTIMEZONE
TZID:America/New_York
BEGIN:DAYLIGHT
TZOFFSETFROM:-0500
TZOFFSETTO:-0400
TZNAME:EDT
DTSTART:20260308T070000
END:DAYLIGHT
BEGIN:STANDARD
TZOFFSETFROM:-0400
TZOFFSETTO:-0500
TZNAME:EST
DTSTART:20261101T060000
END:STANDARD
END:VTIMEZONE
BEGIN:VEVENT
DTSTART;VALUE=DATE:20260605
DTEND;VALUE=DATE:20260608
DTSTAMP:20260423T165353
CREATED:20250627T204654Z
LAST-MODIFIED:20250627T204654Z
UID:5575-1780617600-1780876799@www.districtsixbridge.org
SUMMARY:Baltimore Summer Sectional
DESCRIPTION:
URL:https://www.districtsixbridge.org/tournament/baltimore-summer-sectional-5/
LOCATION:Immanuel United Church of Christ\, 1905 Edmondson Ave\, Catonsville\, MD\, 21228\, United States
CATEGORIES:Sectionals
END:VEVENT
BEGIN:VEVENT
DTSTART;VALUE=DATE:20260615
DTEND;VALUE=DATE:20260622
DTSTAMP:20260423T165353
CREATED:20250923T002727Z
LAST-MODIFIED:20250923T002727Z
UID:5638-1781481600-1782086399@www.districtsixbridge.org
SUMMARY:District 6 Summer STaC
DESCRIPTION:
URL:https://www.districtsixbridge.org/tournament/district-6-summer-stac-3/
LOCATION:VA
CATEGORIES:STaCs
END:VEVENT
BEGIN:VEVENT
DTSTART;VALUE=DATE:20260629
DTEND;VALUE=DATE:20260704
DTSTAMP:20260423T165353
CREATED:20251125T002922Z
LAST-MODIFIED:20251125T002922Z
UID:5695-1782691200-1783123199@www.districtsixbridge.org
SUMMARY:National Capital 4th of July Regional
DESCRIPTION:
URL:https://www.districtsixbridge.org/tournament/national-capital-4th-of-july-regional-2/
LOCATION:Westfields Marriott\, 14750 Conference Center Dr.\, Chantilly\, VA\, 20151\, United States
CATEGORIES:Regionals
END:VEVENT
BEGIN:VEVENT
DTSTART;VALUE=DATE:20260724
DTEND;VALUE=DATE:20260727
DTSTAMP:20260423T165353
CREATED:20250627T205842Z
LAST-MODIFIED:20250627T205842Z
UID:5577-1784851200-1785110399@www.districtsixbridge.org
SUMMARY:Virginia Beach Summer Sectional
DESCRIPTION:
URL:https://www.districtsixbridge.org/tournament/virginia-beach-summer-sectional-6/
LOCATION:Unit 146 Bridge Center\, 4966 Euclid Road\, Virginia Beach\, VA\, 23462\, United States
CATEGORIES:Sectionals
END:VEVENT
BEGIN:VEVENT
DTSTART;VALUE=DATE:20260807
DTEND;VALUE=DATE:20260810
DTSTAMP:20260423T165353
CREATED:20251125T002100Z
LAST-MODIFIED:20251125T002100Z
UID:5693-1786060800-1786319999@www.districtsixbridge.org
SUMMARY:Mr. Jefferson Sectional
DESCRIPTION:
URL:https://www.districtsixbridge.org/tournament/mr-jefferson-sectional-4/
LOCATION:East Rivanna Firehouse & Banquet Hall\, 3501 Steamer Drive\, Keswick\, VA\, 22947
CATEGORIES:Sectionals
END:VEVENT
BEGIN:VEVENT
DTSTART;VALUE=DATE:20260821
DTEND;VALUE=DATE:20260823
DTSTAMP:20260423T165353
CREATED:20260216T181509Z
LAST-MODIFIED:20260216T181509Z
UID:5726-1787270400-1787443199@www.districtsixbridge.org
SUMMARY:Baltimore Summer sectional
DESCRIPTION:
URL:https://www.districtsixbridge.org/tournament/baltimore-summer-sectional-6/
LOCATION:Kiwanis Wallis Recreation Center\, 3300 Norberts Way\, Ellicott City\, 21042
CATEGORIES:Sectionals
END:VEVENT
BEGIN:VEVENT
DTSTART;VALUE=DATE:20260914
DTEND;VALUE=DATE:20260921
DTSTAMP:20260423T165353
CREATED:20250923T002918Z
LAST-MODIFIED:20250923T002918Z
UID:5640-1789344000-1789948799@www.districtsixbridge.org
SUMMARY:District 6 Fall STaC
DESCRIPTION:
URL:https://www.districtsixbridge.org/tournament/district-6-fall-stac-2/
LOCATION:VA
CATEGORIES:STaCs
END:VEVENT
BEGIN:VEVENT
DTSTART;VALUE=DATE:20260924
DTEND;VALUE=DATE:20260928
DTSTAMP:20260423T165353
CREATED:20250923T003228Z
LAST-MODIFIED:20250923T003228Z
UID:5642-1790208000-1790553599@www.districtsixbridge.org
SUMMARY:NVBA Fall Sectional
DESCRIPTION:
URL:https://www.districtsixbridge.org/tournament/nvba-fall-sectional-6/
LOCATION:Fairfax Elks Lodge\, 8421 Arlington Boulevard\, Fairfax\, VA\, 22031\, United States
CATEGORIES:Sectionals
END:VEVENT
BEGIN:VEVENT
DTSTART;VALUE=DATE:20261001
DTEND;VALUE=DATE:20261004
DTSTAMP:20260423T165353
CREATED:20260216T183344Z
LAST-MODIFIED:20260216T183344Z
UID:5731-1790812800-1791071999@www.districtsixbridge.org
SUMMARY:Williamsburg Fall Sectional
DESCRIPTION:
URL:https://www.districtsixbridge.org/tournament/williamsburg-fall-sectional-7/
LOCATION:King of Glory Lutheran Church\, 4897 Longhill Rd\, Williamsburg\, VA\, 23188\, United States
CATEGORIES:Sectionals
END:VEVENT
BEGIN:VEVENT
DTSTART;VALUE=DATE:20261015
DTEND;VALUE=DATE:20261019
DTSTAMP:20260423T165353
CREATED:20241105T005834Z
LAST-MODIFIED:20250627T203335Z
UID:5054-1792022400-1792367999@www.districtsixbridge.org
SUMMARY:93rd Annual DC Championships Sectional
DESCRIPTION:
URL:https://www.districtsixbridge.org/tournament/93rd-annual-dc-championships-sectional/
LOCATION:Silver Spring Civic Bldg\, 8525 Fenton St.\, Silver Spring\, MD\, 20910\, United States
CATEGORIES:Sectionals
END:VEVENT
BEGIN:VEVENT
DTSTART;VALUE=DATE:20261109
DTEND;VALUE=DATE:20261115
DTSTAMP:20260423T165353
CREATED:20250923T004326Z
LAST-MODIFIED:20250923T004326Z
UID:5646-1794182400-1794700799@www.districtsixbridge.org
SUMMARY:Virginia Beach Veterans Day Regional
DESCRIPTION:
URL:https://www.districtsixbridge.org/tournament/virginia-beach-veterans-day-regional/
LOCATION:Marriott Delta Waterfront\, 2800 Shore Dr.\, Virginia Beach\, VA\, 23451\, United States
CATEGORIES:Regionals
END:VEVENT
BEGIN:VEVENT
DTSTART;VALUE=DATE:20261214
DTEND;VALUE=DATE:20261221
DTSTAMP:20260423T165353
CREATED:20250923T003421Z
LAST-MODIFIED:20250923T003421Z
UID:5644-1797206400-1797811199@www.districtsixbridge.org
SUMMARY:District 6 Winter STaC
DESCRIPTION:
URL:https://www.districtsixbridge.org/tournament/district-6-winter-stac-2/
LOCATION:VA
CATEGORIES:STaCs
END:VEVENT
END:VCALENDAR