BEGIN:VCALENDAR
VERSION:2.0
PRODID:-//District Six Bridge - ECPv6.9.0//NONSGML v1.0//EN
CALSCALE:GREGORIAN
METHOD:PUBLISH
X-ORIGINAL-URL:https://www.districtsixbridge.org
X-WR-CALDESC:Events for District Six Bridge
REFRESH-INTERVAL;VALUE=DURATION:PT1H
X-Robots-Tag:noindex
X-PUBLISHED-TTL:PT1H
BEGIN:VTIMEZONE
TZID:America/New_York
BEGIN:DAYLIGHT
TZOFFSETFROM:-0500
TZOFFSETTO:-0400
TZNAME:EDT
DTSTART:20250309T070000
END:DAYLIGHT
BEGIN:STANDARD
TZOFFSETFROM:-0400
TZOFFSETTO:-0500
TZNAME:EST
DTSTART:20251102T060000
END:STANDARD
BEGIN:DAYLIGHT
TZOFFSETFROM:-0500
TZOFFSETTO:-0400
TZNAME:EDT
DTSTART:20260308T070000
END:DAYLIGHT
BEGIN:STANDARD
TZOFFSETFROM:-0400
TZOFFSETTO:-0500
TZNAME:EST
DTSTART:20261101T060000
END:STANDARD
END:VTIMEZONE
BEGIN:VEVENT
DTSTART;VALUE=DATE:20250124
DTEND;VALUE=DATE:20250127
DTSTAMP:20260425T084657
CREATED:20241030T205127Z
LAST-MODIFIED:20250114T195814Z
UID:5036-1737676800-1737935999@www.districtsixbridge.org
SUMMARY:Virginia Beach Winter Sectional
DESCRIPTION:
URL:https://www.districtsixbridge.org/tournament/virginia-beach-winter-sectional-3/
LOCATION:Unit 146 Bnit\, 4966 Euclid Road\, Virginia Beach\, Vir\, 23462\, United States
CATEGORIES:Sectionals
END:VEVENT
BEGIN:VEVENT
DTSTART;VALUE=DATE:20250207
DTEND;VALUE=DATE:20250210
DTSTAMP:20260425T084657
CREATED:20241010T225159Z
LAST-MODIFIED:20250114T200520Z
UID:5018-1738886400-1739145599@www.districtsixbridge.org
SUMMARY:Baltimore Super Bowl Sectional
DESCRIPTION:
URL:https://www.districtsixbridge.org/tournament/baltimore-super-bowl-sectional-2/
LOCATION:Immanuel United Church of Christ\, 1905 Edmondson Ave\, Catonsville\, MD\, 21228\, United States
CATEGORIES:Sectionals
END:VEVENT
BEGIN:VEVENT
DTSTART;VALUE=DATE:20250220
DTEND;VALUE=DATE:20250224
DTSTAMP:20260425T084657
CREATED:20241010T224548Z
LAST-MODIFIED:20241010T224548Z
UID:5014-1740009600-1740355199@www.districtsixbridge.org
SUMMARY:NVBA Winter Sectional
DESCRIPTION:
URL:https://www.districtsixbridge.org/tournament/nvba-winter-sectional-5/
LOCATION:Fairfax Elks Lodge\, 8421 Arlington Boulevard\, Fairfax\, VA\, 22031\, United States
CATEGORIES:Sectionals
END:VEVENT
BEGIN:VEVENT
DTSTART;VALUE=DATE:20250314
DTEND;VALUE=DATE:20250317
DTSTAMP:20260425T084657
CREATED:20241030T205532Z
LAST-MODIFIED:20241030T205532Z
UID:5039-1741910400-1742169599@www.districtsixbridge.org
SUMMARY:St. Patrick's Day Sectional
DESCRIPTION:
URL:https://www.districtsixbridge.org/tournament/st-patricks-day-sectional-4/
LOCATION:Holiday Inn Conference Center – Fredericksburg\, 20 Sanford Dr.\, Fredericksburg\, VA\, 22406\, United States
CATEGORIES:Sectionals
END:VEVENT
BEGIN:VEVENT
DTSTART;VALUE=DATE:20250328
DTEND;VALUE=DATE:20250331
DTSTAMP:20260425T084657
CREATED:20241010T224851Z
LAST-MODIFIED:20241010T224851Z
UID:5016-1743120000-1743379199@www.districtsixbridge.org
SUMMARY:Lynchburg Sectional
DESCRIPTION:
URL:https://www.districtsixbridge.org/tournament/lynchburg-sectional-3/
LOCATION:American Legion Post 16\, 1301 Greenview Dr.\, Lynchburg\, VA\, 24502
CATEGORIES:Sectionals
END:VEVENT
BEGIN:VEVENT
DTSTART;VALUE=DATE:20250403
DTEND;VALUE=DATE:20250407
DTSTAMP:20260425T084657
CREATED:20241030T203757Z
LAST-MODIFIED:20241030T203757Z
UID:5028-1743638400-1743983999@www.districtsixbridge.org
SUMMARY:75th Annual City of Washington Sectional
DESCRIPTION:Silver
URL:https://www.districtsixbridge.org/tournament/75th-annual-city-of-washington-sectional/
LOCATION:Silver Spring Civic Bldg\, 8525 Fenton St.\, Silver Spring\, MD\, 20910\, United States
CATEGORIES:Sectionals
END:VEVENT
BEGIN:VEVENT
DTSTART;VALUE=DATE:20250411
DTEND;VALUE=DATE:20250414
DTSTAMP:20260425T084657
CREATED:20241030T203947Z
LAST-MODIFIED:20241030T203947Z
UID:5031-1744329600-1744588799@www.districtsixbridge.org
SUMMARY:Jefferson Bridge Sectional
DESCRIPTION:
URL:https://www.districtsixbridge.org/tournament/jefferson-bridge-sectional-3/
LOCATION:East Rivanna Firehouse & Banquet Hall\, 3501 Steamer Drive\, Keswick\, VA\, 22947
CATEGORIES:Sectionals
END:VEVENT
BEGIN:VEVENT
DTSTART;VALUE=DATE:20250508
DTEND;VALUE=DATE:20250511
DTSTAMP:20260425T084657
CREATED:20241030T205952Z
LAST-MODIFIED:20241030T210026Z
UID:5042-1746662400-1746921599@www.districtsixbridge.org
SUMMARY:Williamsburg Spring Sectional
DESCRIPTION:
URL:https://www.districtsixbridge.org/tournament/williamsburg-spring-sectional/
LOCATION:King of Glory Lutheran Church\, 4897 Longhill Rd\, Williamsburg\, VA\, 23188\, United States
CATEGORIES:Sectionals
END:VEVENT
BEGIN:VEVENT
DTSTART;VALUE=DATE:20250529
DTEND;VALUE=DATE:20250602
DTSTAMP:20260425T084657
CREATED:20241030T210203Z
LAST-MODIFIED:20241030T210233Z
UID:5044-1748476800-1748822399@www.districtsixbridge.org
SUMMARY:NVBA Spring Sectional
DESCRIPTION:
URL:https://www.districtsixbridge.org/tournament/nvba-spring-sectional-6/
LOCATION:Fairfax Elks Lodge\, 8421 Arlington Boulevard\, Fairfax\, VA\, 22031\, United States
CATEGORIES:Sectionals
END:VEVENT
BEGIN:VEVENT
DTSTART;VALUE=DATE:20250606
DTEND;VALUE=DATE:20250609
DTSTAMP:20260425T084657
CREATED:20241030T211442Z
LAST-MODIFIED:20250114T202014Z
UID:5049-1749168000-1749427199@www.districtsixbridge.org
SUMMARY:Baltimore's Best Sectional
DESCRIPTION:
URL:https://www.districtsixbridge.org/tournament/nvba-fall-sectional-4/
LOCATION:Immanuel United Church of Christ\, 1905 Edmondson Ave\, Catonsville\, MD\, 21228\, United States
CATEGORIES:Sectionals
END:VEVENT
BEGIN:VEVENT
DTSTART;VALUE=DATE:20250711
DTEND;VALUE=DATE:20250714
DTSTAMP:20260425T084657
CREATED:20250627T202451Z
LAST-MODIFIED:20250627T202451Z
UID:5563-1752192000-1752451199@www.districtsixbridge.org
SUMMARY:Virginia Beach Summer Sectional
DESCRIPTION:
URL:https://www.districtsixbridge.org/tournament/virginia-beach-summer-sectional-5/
LOCATION:Unit 146 Bridge Center\, 4966 Euclid Road\, Virginia Beach\, VA\, 23462\, United States
CATEGORIES:Sectionals
END:VEVENT
BEGIN:VEVENT
DTSTART;VALUE=DATE:20250808
DTEND;VALUE=DATE:20250811
DTSTAMP:20260425T084657
CREATED:20250627T201916Z
LAST-MODIFIED:20250627T212550Z
UID:5561-1754611200-1754870399@www.districtsixbridge.org
SUMMARY:Unit 139 Sectional
DESCRIPTION:ACBL UNIT 139 presents…..MR. JEFFERSON’S SECTIONAL \nKESWICK\, VA \nAugust 8-10\, 2025 \n  \nFriday\, August 8 \n10:00 AM        Stratified Open Pairs; Separate 299ers                                 Tournament Chair: \n         Grass Roots Game at same price:   40% more masterpoints help         Betsy Ruehl \n            fund GNTs & NAPs                                                                               (540) 942-3667 \netruehl@ntelos.net \n2:30 PM          Stratified Open Pairs; Separate 299ers \n  \n  \nSaturday\, August 9                                                                                         Partnership Chair: \n10:00 AM        Stratified Open Pairs; Separate 299er                                   Eberhard Jehle \nGrass Roots Game at same price:   40% more masterpoints help             (434) 825-4696 \nfund GNTs & NAPs                                                                               evkjehle@gmail.com \n  \n2:30 PM          Stratified Open Pairs; Separate 299ers \n  \n  \nSunday\, August 10 \n10:00 AM & TBA         Stratified Swiss Teams                                               Unit 139 Board \nLunch provided                                                                                      Meeting between \nsessions Saturday \n  \n  \n$15 entry fee; $10 for 0-20 and students; $140/team includes lunch \n$4 additional per person for unpaid ACBL members; Players must have ACBL number. \n  \nAll Stratifications by average masterpoints – no individual may exceed the event’s upper limit – \nor at Director’s Discretion \n  \nFriday and Saturday Stratifications: 0-750\, 750-2000\, 2000+ plus 299ers \n  \nPlaying Site: \nEast Rivanna Firehouse and Banquet Hall \n3501 Steamer Drive \nKeswick\, VA 22947             Via I-64 – 5 min. east of Charlottesville; 55 min. west of Richmond \n  \nDirections:  From the east\, take the Keswick exit (129) from I-64. Turn left. Go ½ mile to the first traffic light. Turn right onto route 250 headed west. Go 2 ½ miles to the next traffic light. Turn left onto Glenmore Way. \nFrom the west: Take the Shadwell exit (124) from I-64. Turn right onto route 250 headed east. Go 3 miles to the third traffic light. Turn right onto Glenmore Way. \n  \nOnce on Glenmore Way\, take the first possible left (Steamer Drive). Cross the outbound lane into Rivanna Village. Follow Steamer Drive to the right. Go past the firehouse and park in the event parking area. Please leave nearby parking spaces for those who are less mobile. \n 
URL:https://www.districtsixbridge.org/tournament/unit-139-sectional/
LOCATION:East Rivanna Firehouse & Banquet Hall\, 3501 Steamer Drive\, Keswick\, VA\, 22947
CATEGORIES:Sectionals
END:VEVENT
BEGIN:VEVENT
DTSTART;VALUE=DATE:20250911
DTEND;VALUE=DATE:20250915
DTSTAMP:20260425T084657
CREATED:20250116T162727Z
LAST-MODIFIED:20250116T162727Z
UID:5105-1757548800-1757894399@www.districtsixbridge.org
SUMMARY:NVBA Fall Sectional
DESCRIPTION:
URL:https://www.districtsixbridge.org/tournament/nvba-fall-sectional-5/
LOCATION:Fairfax Elks Lodge\, 8421 Arlington Boulevard\, Fairfax\, VA\, 22031\, United States
CATEGORIES:Sectionals
END:VEVENT
BEGIN:VEVENT
DTSTART;VALUE=DATE:20251010
DTEND;VALUE=DATE:20251013
DTSTAMP:20260425T084657
CREATED:20250803T225356Z
LAST-MODIFIED:20250803T225356Z
UID:5592-1760054400-1760313599@www.districtsixbridge.org
SUMMARY:Richmond Fall Sectional
DESCRIPTION:
URL:https://www.districtsixbridge.org/tournament/richmond-fall-sectional-3/
LOCATION:Guzman Center at the Faison School\, 5200 Fitzhugh Ave\, Richmond\, VA\, 23230\, United States
CATEGORIES:Sectionals
END:VEVENT
BEGIN:VEVENT
DTSTART;VALUE=DATE:20251016
DTEND;VALUE=DATE:20251020
DTSTAMP:20260425T084657
CREATED:20250627T201522Z
LAST-MODIFIED:20250627T201522Z
UID:5559-1760572800-1760918399@www.districtsixbridge.org
SUMMARY:92nd Annual DC Championships
DESCRIPTION:
URL:https://www.districtsixbridge.org/tournament/92nd-annual-dc-championships-2/
LOCATION:Silver Spring Civic Bldg\, 8525 Fenton St.\, Silver Spring\, MD\, 20910\, United States
CATEGORIES:Sectionals
END:VEVENT
BEGIN:VEVENT
DTSTART;VALUE=DATE:20251106
DTEND;VALUE=DATE:20251109
DTSTAMP:20260425T084657
CREATED:20250803T231647Z
LAST-MODIFIED:20250803T231647Z
UID:5595-1762387200-1762646399@www.districtsixbridge.org
SUMMARY:Williamsburg Fall Sectional
DESCRIPTION:
URL:https://www.districtsixbridge.org/tournament/williamsburg-fall-sectional-6/
LOCATION:King of Glory Lutheran Church\, 4897 Longhill Rd\, Williamsburg\, VA\, 23188\, United States
CATEGORIES:Sectionals
END:VEVENT
BEGIN:VEVENT
DTSTART;VALUE=DATE:20251121
DTEND;VALUE=DATE:20251124
DTSTAMP:20260425T084657
CREATED:20250627T202911Z
LAST-MODIFIED:20250627T205146Z
UID:5565-1763683200-1763942399@www.districtsixbridge.org
SUMMARY:Charlottesville Winter Sectional
DESCRIPTION:
URL:https://www.districtsixbridge.org/tournament/charlottesville-winter-sectional-2/
LOCATION:East Rivanna Firehouse & Banquet Hall\, 3501 Steamer Drive\, Keswick\, VA\, 22947
CATEGORIES:Sectionals
END:VEVENT
BEGIN:VEVENT
DTSTART;VALUE=DATE:20260108
DTEND;VALUE=DATE:20260112
DTSTAMP:20260425T084657
CREATED:20250627T203746Z
LAST-MODIFIED:20250627T205058Z
UID:5567-1767830400-1768175999@www.districtsixbridge.org
SUMMARY:61st Annual Presidential Sectional Tournament
DESCRIPTION:
URL:https://www.districtsixbridge.org/tournament/61st-annual-presidential-sectional-tournament/
LOCATION:Silver Spring Civic Bldg\, 8525 Fenton St.\, Silver Spring\, MD\, 20910\, United States
CATEGORIES:Sectionals
END:VEVENT
BEGIN:VEVENT
DTSTART;VALUE=DATE:20260116
DTEND;VALUE=DATE:20260119
DTSTAMP:20260425T084657
CREATED:20250627T203936Z
LAST-MODIFIED:20250627T203936Z
UID:5569-1768521600-1768780799@www.districtsixbridge.org
SUMMARY:Unit 146 Winter Sectional
DESCRIPTION:
URL:https://www.districtsixbridge.org/tournament/unit-146-winter-sectional/
LOCATION:Unit 146 Bridge Center\, 4966 Euclid Road\, Virginia Beach\, VA\, 23462\, United States
CATEGORIES:Sectionals
END:VEVENT
BEGIN:VEVENT
DTSTART;VALUE=DATE:20260219
DTEND;VALUE=DATE:20260223
DTSTAMP:20260425T084657
CREATED:20250923T001437Z
LAST-MODIFIED:20250923T001437Z
UID:5629-1771459200-1771804799@www.districtsixbridge.org
SUMMARY:NVBA Winter Sectional
DESCRIPTION:
URL:https://www.districtsixbridge.org/tournament/nvba-winter-sectional-6/
LOCATION:Fairfax Elks Lodge\, 8421 Arlington Boulevard\, Fairfax\, VA\, 22031\, United States
CATEGORIES:Sectionals
END:VEVENT
BEGIN:VEVENT
DTSTART;VALUE=DATE:20260320
DTEND;VALUE=DATE:20260323
DTSTAMP:20260425T084657
CREATED:20251125T001645Z
LAST-MODIFIED:20251125T001645Z
UID:5691-1773964800-1774223999@www.districtsixbridge.org
SUMMARY:Jefferson Bridge Association Spring Sectional
DESCRIPTION:
URL:https://www.districtsixbridge.org/tournament/jefferson-bridge-association-spring-sectional/
LOCATION:East Rivanna Firehouse & Banquet Hall\, 3501 Steamer Drive\, Keswick\, VA\, 22947
CATEGORIES:Sectionals
END:VEVENT
BEGIN:VEVENT
DTSTART;VALUE=DATE:20260327
DTEND;VALUE=DATE:20260330
DTSTAMP:20260425T084657
CREATED:20250923T001816Z
LAST-MODIFIED:20260216T181033Z
UID:5631-1774569600-1774828799@www.districtsixbridge.org
SUMMARY:41st Annual Lynchburg Spring Sectional
DESCRIPTION:
URL:https://www.districtsixbridge.org/tournament/41st-annual-lynchburg-spring-sectional/
LOCATION:American Legion Post 16\, 1301 Greenview Dr.\, Lynchburg\, VA\, 24502
CATEGORIES:Sectionals
END:VEVENT
BEGIN:VEVENT
DTSTART;VALUE=DATE:20260410
DTEND;VALUE=DATE:20260413
DTSTAMP:20260425T084657
CREATED:20250923T002437Z
LAST-MODIFIED:20250923T002437Z
UID:5635-1775779200-1776038399@www.districtsixbridge.org
SUMMARY:Virginia Beach 2026 Spring Sectional
DESCRIPTION:
URL:https://www.districtsixbridge.org/tournament/virginia-beach-2026-spring-sectional/
LOCATION:Bridge Center of Hampton Roads\, 817 Kempsville Road\, Virginia Beach\, VA\, 23451\, United States
CATEGORIES:Sectionals
END:VEVENT
BEGIN:VEVENT
DTSTART;VALUE=DATE:20260416
DTEND;VALUE=DATE:20260420
DTSTAMP:20260425T084657
CREATED:20250923T002126Z
LAST-MODIFIED:20250923T002126Z
UID:5633-1776297600-1776643199@www.districtsixbridge.org
SUMMARY:NVBA Spring Sectional
DESCRIPTION:
URL:https://www.districtsixbridge.org/tournament/nvba-spring-sectional-7/
LOCATION:Fairfax Elks Lodge\, 8421 Arlington Boulevard\, Fairfax\, VA\, 22031\, United States
CATEGORIES:Sectionals
END:VEVENT
BEGIN:VEVENT
DTSTART;VALUE=DATE:20260507
DTEND;VALUE=DATE:20260510
DTSTAMP:20260425T084657
CREATED:20260216T182135Z
LAST-MODIFIED:20260216T182135Z
UID:5729-1778112000-1778371199@www.districtsixbridge.org
SUMMARY:Williamsburg Spring Sectional
DESCRIPTION:
URL:https://www.districtsixbridge.org/tournament/williamsburg-spring-sectional-2/
LOCATION:King of Glory Lutheran Church\, 4897 Longhill Rd\, Williamsburg\, VA\, 23188\, United States
CATEGORIES:Sectionals
END:VEVENT
BEGIN:VEVENT
DTSTART;VALUE=DATE:20260514
DTEND;VALUE=DATE:20260518
DTSTAMP:20260425T084657
CREATED:20250627T204435Z
LAST-MODIFIED:20250627T204901Z
UID:5573-1778716800-1779062399@www.districtsixbridge.org
SUMMARY:76th Annual City of Washington Sectional
DESCRIPTION:
URL:https://www.districtsixbridge.org/tournament/76th-annual-city-of-washington-sectional/
LOCATION:Silver Spring Civic Bldg\, 8525 Fenton St.\, Silver Spring\, MD\, 20910\, United States
CATEGORIES:Sectionals
END:VEVENT
BEGIN:VEVENT
DTSTART;VALUE=DATE:20260605
DTEND;VALUE=DATE:20260608
DTSTAMP:20260425T084657
CREATED:20250627T204654Z
LAST-MODIFIED:20250627T204654Z
UID:5575-1780617600-1780876799@www.districtsixbridge.org
SUMMARY:Baltimore Summer Sectional
DESCRIPTION:
URL:https://www.districtsixbridge.org/tournament/baltimore-summer-sectional-5/
LOCATION:Immanuel United Church of Christ\, 1905 Edmondson Ave\, Catonsville\, MD\, 21228\, United States
CATEGORIES:Sectionals
END:VEVENT
BEGIN:VEVENT
DTSTART;VALUE=DATE:20260724
DTEND;VALUE=DATE:20260727
DTSTAMP:20260425T084657
CREATED:20250627T205842Z
LAST-MODIFIED:20250627T205842Z
UID:5577-1784851200-1785110399@www.districtsixbridge.org
SUMMARY:Virginia Beach Summer Sectional
DESCRIPTION:
URL:https://www.districtsixbridge.org/tournament/virginia-beach-summer-sectional-6/
LOCATION:Unit 146 Bridge Center\, 4966 Euclid Road\, Virginia Beach\, VA\, 23462\, United States
CATEGORIES:Sectionals
END:VEVENT
BEGIN:VEVENT
DTSTART;VALUE=DATE:20260807
DTEND;VALUE=DATE:20260810
DTSTAMP:20260425T084657
CREATED:20251125T002100Z
LAST-MODIFIED:20251125T002100Z
UID:5693-1786060800-1786319999@www.districtsixbridge.org
SUMMARY:Mr. Jefferson Sectional
DESCRIPTION:
URL:https://www.districtsixbridge.org/tournament/mr-jefferson-sectional-4/
LOCATION:East Rivanna Firehouse & Banquet Hall\, 3501 Steamer Drive\, Keswick\, VA\, 22947
CATEGORIES:Sectionals
END:VEVENT
BEGIN:VEVENT
DTSTART;VALUE=DATE:20260821
DTEND;VALUE=DATE:20260823
DTSTAMP:20260425T084657
CREATED:20260216T181509Z
LAST-MODIFIED:20260216T181509Z
UID:5726-1787270400-1787443199@www.districtsixbridge.org
SUMMARY:Baltimore Summer sectional
DESCRIPTION:
URL:https://www.districtsixbridge.org/tournament/baltimore-summer-sectional-6/
LOCATION:Kiwanis Wallis Recreation Center\, 3300 Norberts Way\, Ellicott City\, 21042
CATEGORIES:Sectionals
END:VEVENT
END:VCALENDAR