BEGIN:VCALENDAR
VERSION:2.0
PRODID:-//District Six Bridge - ECPv6.9.0//NONSGML v1.0//EN
CALSCALE:GREGORIAN
METHOD:PUBLISH
X-WR-CALNAME:District Six Bridge
X-ORIGINAL-URL:https://www.districtsixbridge.org
X-WR-CALDESC:Events for District Six Bridge
REFRESH-INTERVAL;VALUE=DURATION:PT1H
X-Robots-Tag:noindex
X-PUBLISHED-TTL:PT1H
BEGIN:VTIMEZONE
TZID:America/New_York
BEGIN:DAYLIGHT
TZOFFSETFROM:-0500
TZOFFSETTO:-0400
TZNAME:EDT
DTSTART:20240310T070000
END:DAYLIGHT
BEGIN:STANDARD
TZOFFSETFROM:-0400
TZOFFSETTO:-0500
TZNAME:EST
DTSTART:20241103T060000
END:STANDARD
END:VTIMEZONE
BEGIN:VEVENT
DTSTART;VALUE=DATE:20240209
DTEND;VALUE=DATE:20240212
DTSTAMP:20260425T074631
CREATED:20231207T204921Z
LAST-MODIFIED:20231207T204921Z
UID:4539-1707436800-1707695999@www.districtsixbridge.org
SUMMARY:Baltimore Super Bowl Sectional
DESCRIPTION:
URL:https://www.districtsixbridge.org/tournament/baltimore-super-bowl-sectional/
LOCATION:Immanuel United Church of Christ\, 1905 Edmondson Ave\, Catonsville\, MD\, 21228\, United States
CATEGORIES:Sectionals
END:VEVENT
BEGIN:VEVENT
DTSTART;VALUE=DATE:20240209
DTEND;VALUE=DATE:20240212
DTSTAMP:20260425T074631
CREATED:20230903T141559Z
LAST-MODIFIED:20240211T200740Z
UID:4316-1707436800-1707695999@www.districtsixbridge.org
SUMMARY:Jefferson Bridge Sectional
DESCRIPTION:
URL:https://www.districtsixbridge.org/tournament/jefferson-bridge-sectional-2/
LOCATION:East Rivanna Firehouse & Banquet Hall\, 3501 Steamer Drive\, Keswick\, VA\, 22947
CATEGORIES:Sectionals
END:VEVENT
END:VCALENDAR