BEGIN:VCALENDAR
VERSION:2.0
PRODID:-//District Six Bridge - ECPv6.9.0//NONSGML v1.0//EN
CALSCALE:GREGORIAN
METHOD:PUBLISH
X-WR-CALNAME:District Six Bridge
X-ORIGINAL-URL:https://www.districtsixbridge.org
X-WR-CALDESC:Events for District Six Bridge
REFRESH-INTERVAL;VALUE=DURATION:PT1H
X-Robots-Tag:noindex
X-PUBLISHED-TTL:PT1H
BEGIN:VTIMEZONE
TZID:America/New_York
BEGIN:DAYLIGHT
TZOFFSETFROM:-0500
TZOFFSETTO:-0400
TZNAME:EDT
DTSTART:20230312T070000
END:DAYLIGHT
BEGIN:STANDARD
TZOFFSETFROM:-0400
TZOFFSETTO:-0500
TZNAME:EST
DTSTART:20231105T060000
END:STANDARD
END:VTIMEZONE
BEGIN:VEVENT
DTSTART;VALUE=DATE:20231006
DTEND;VALUE=DATE:20231009
DTSTAMP:20260425T144533
CREATED:20230902T130825Z
LAST-MODIFIED:20230908T230609Z
UID:4308-1696550400-1696809599@www.districtsixbridge.org
SUMMARY:Richmond Bridge Fall Sectional
DESCRIPTION:
URL:https://www.districtsixbridge.org/tournament/richmond-fall-sectional/
LOCATION:Guzman Community Center at the Faison Center 5200 Fitzhugh Ave.\, Richmond VA 23230\, 5200 Fitzhugh Ave\, Richmond\, VA\, 23230\, United States
CATEGORIES:Sectionals
END:VEVENT
END:VCALENDAR