BEGIN:VCALENDAR
VERSION:2.0
PRODID:-//District Six Bridge - ECPv6.9.0//NONSGML v1.0//EN
CALSCALE:GREGORIAN
METHOD:PUBLISH
X-ORIGINAL-URL:https://www.districtsixbridge.org
X-WR-CALDESC:Events for District Six Bridge
REFRESH-INTERVAL;VALUE=DURATION:PT1H
X-Robots-Tag:noindex
X-PUBLISHED-TTL:PT1H
BEGIN:VTIMEZONE
TZID:America/New_York
BEGIN:DAYLIGHT
TZOFFSETFROM:-0500
TZOFFSETTO:-0400
TZNAME:EDT
DTSTART:20230312T070000
END:DAYLIGHT
BEGIN:STANDARD
TZOFFSETFROM:-0400
TZOFFSETTO:-0500
TZNAME:EST
DTSTART:20231105T060000
END:STANDARD
END:VTIMEZONE
BEGIN:VEVENT
DTSTART;VALUE=DATE:20231201
DTEND;VALUE=DATE:20231204
DTSTAMP:20260425T092856
CREATED:20230907T190341Z
LAST-MODIFIED:20231009T163450Z
UID:4329-1701388800-1701647999@www.districtsixbridge.org
SUMMARY:Mr. Jefferson's Sectional
DESCRIPTION:ACBL UNIT 139 presents….. \n                                               WINTER SECTIONAL \n                                        KESWICK (Charlottesville)\, VA \n                                                 December 1-3\, 2023 \nTournament Chair:   Betsy Ruehl\, (540) 942-3667\, etruehl@ntelos.net\nCo-Chair:  Steve Rothman\nPartnership Chair:  Eberhard Jehle\, (434)825-4696\, evkjehle@gmail.com                 \nFriday\, December 1 \n10:00 AM        Stratified Open Pairs; Separate 299ers \n         Entry for this game is $13; 40% more masterpoints helps                          \n            fund GNTs & NAPs                                                                            \n2:30 PM          Stratified Open Pairs; Separate 299ers \nSaturday\, December 2 \n10:00 AM        Stratified Open Pairs; Separate 299ers \nEntry for this game is $13; 40% more masterpoints helps              \nfund GNTs & NAPs \n2:30 PM           Stratified Open Pairs; Separate 299ers \nSunday\, December 3 \n10:00 AM & TBA         Stratified Swiss Teams \nLunch provided                                                                           \n  \nNOTE:  Teams playing in the Swiss automatically qualify for the Open and A (0-6000) Flights of the District 6 GNT District Finals.  No need to do well – just play!  (No qualification required for Flights B & C.) \n  \n$12 entry fee per person; $120/team includes lunch on Sunday \n$4 additional per person for unpaid ACBL members \nAll participants must be ACBL members; join or get a Guest Membership at www.acbl.org \nStratifications: 0-750\, 750-2000\, 2000+ (average of players) \n299ers stratified by director (no player over 300) \nPlaying Site: \nEast Rivanna Firehouse and Banquet Hall \n3501 Steamer Drive \nKeswick\, VA 22947             Via I-64 – 5 min. east of Charlottesville; 55 min. west of Richmond \nDirections:  From the east\, take the Keswick exit (129) from I-64. Turn left. Go ½ mile to the first traffic light. Turn right onto route 250 headed west. Go 2 ½ miles to the next traffic light. Turn left onto Glenmore Way. \nFrom the west: Take the Shadwell exit (124) from I-64. Turn right onto route 250 headed east. Go 3 miles to the third traffic light. Turn right onto Glenmore Way. \nOnce on Glenmore Way\, take the first possible left (Steamer Drive). Cross the outbound lane into Rivanna Village. Follow Steamer Drive to the right. Go past the firehouse and park in the event parking area. Please leave nearby parking spaces for those who are less mobile. \n 
URL:https://www.districtsixbridge.org/tournament/mr-jeffersons-sectional/
LOCATION:East Rivanna Firehouse & Banquet Hall\, 3501 Steamer Drive\, Keswick\, VA\, 22947
CATEGORIES:Sectionals
END:VEVENT
END:VCALENDAR