BEGIN:VCALENDAR
VERSION:2.0
PRODID:-//District Six Bridge - ECPv6.9.0//NONSGML v1.0//EN
CALSCALE:GREGORIAN
METHOD:PUBLISH
X-WR-CALNAME:District Six Bridge
X-ORIGINAL-URL:https://www.districtsixbridge.org
X-WR-CALDESC:Events for District Six Bridge
REFRESH-INTERVAL;VALUE=DURATION:PT1H
X-Robots-Tag:noindex
X-PUBLISHED-TTL:PT1H
BEGIN:VTIMEZONE
TZID:America/New_York
BEGIN:DAYLIGHT
TZOFFSETFROM:-0500
TZOFFSETTO:-0400
TZNAME:EDT
DTSTART:20250309T070000
END:DAYLIGHT
BEGIN:STANDARD
TZOFFSETFROM:-0400
TZOFFSETTO:-0500
TZNAME:EST
DTSTART:20251102T060000
END:STANDARD
END:VTIMEZONE
BEGIN:VEVENT
DTSTART;VALUE=DATE:20251108
DTEND;VALUE=DATE:20251110
DTSTAMP:20260423T174953
CREATED:20251016T001037Z
LAST-MODIFIED:20251016T001037Z
UID:5666-1762560000-1762732799@www.districtsixbridge.org
SUMMARY:District 6 North American Pairs (NAP) Flight A (0-6000) Competition
DESCRIPTION:
URL:https://www.districtsixbridge.org/tournament/district-6-north-american-pairs-nap-flight-a-0-6000-competition/
LOCATION:Veirs Mill Park\, 4425 Garrett Park Rd.\, Wheaton\, MD\, 20906\, United States
CATEGORIES:NAP Finals
END:VEVENT
END:VCALENDAR