BEGIN:VCALENDAR
VERSION:2.0
PRODID:-//District Six Bridge - ECPv6.9.0//NONSGML v1.0//EN
CALSCALE:GREGORIAN
METHOD:PUBLISH
X-WR-CALNAME:District Six Bridge
X-ORIGINAL-URL:https://www.districtsixbridge.org
X-WR-CALDESC:Events for District Six Bridge
REFRESH-INTERVAL;VALUE=DURATION:PT1H
X-Robots-Tag:noindex
X-PUBLISHED-TTL:PT1H
BEGIN:VTIMEZONE
TZID:America/New_York
BEGIN:DAYLIGHT
TZOFFSETFROM:-0500
TZOFFSETTO:-0400
TZNAME:EDT
DTSTART:20240310T070000
END:DAYLIGHT
BEGIN:STANDARD
TZOFFSETFROM:-0400
TZOFFSETTO:-0500
TZNAME:EST
DTSTART:20241103T060000
END:STANDARD
END:VTIMEZONE
BEGIN:VEVENT
DTSTART;VALUE=DATE:20241017
DTEND;VALUE=DATE:20241021
DTSTAMP:20260424T120100
CREATED:20230912T191622Z
LAST-MODIFIED:20230912T191622Z
UID:4344-1729123200-1729468799@www.districtsixbridge.org
SUMMARY:92nd Annual DC Championships
DESCRIPTION:
URL:https://www.districtsixbridge.org/tournament/92nd-annual-dc-championships/
LOCATION:Margaret Schweinhaut Senior Center\, 1000 Forest Glen Rd\, Silver Spring\, MD\, 20901\, United States
CATEGORIES:Sectionals
END:VEVENT
BEGIN:VEVENT
DTSTART;VALUE=DATE:20241018
DTEND;VALUE=DATE:20241021
DTSTAMP:20260424T120100
CREATED:20230912T190934Z
LAST-MODIFIED:20230912T190934Z
UID:4336-1729209600-1729468799@www.districtsixbridge.org
SUMMARY:Virginia Beach Fall Local Sectional
DESCRIPTION:
URL:https://www.districtsixbridge.org/tournament/virginia-beach-fall-local-sectional/
LOCATION:Unit 146 Bridge Center\, 4966 Euclid Road\, Virginia Beach\, VA\, 23462\, United States
CATEGORIES:Sectionals
END:VEVENT
END:VCALENDAR