BEGIN:VCALENDAR
VERSION:2.0
PRODID:-//District Six Bridge - ECPv6.9.0//NONSGML v1.0//EN
CALSCALE:GREGORIAN
METHOD:PUBLISH
X-WR-CALNAME:District Six Bridge
X-ORIGINAL-URL:https://www.districtsixbridge.org
X-WR-CALDESC:Events for District Six Bridge
REFRESH-INTERVAL;VALUE=DURATION:PT1H
X-Robots-Tag:noindex
X-PUBLISHED-TTL:PT1H
BEGIN:VTIMEZONE
TZID:America/New_York
BEGIN:DAYLIGHT
TZOFFSETFROM:-0500
TZOFFSETTO:-0400
TZNAME:EDT
DTSTART:20230312T070000
END:DAYLIGHT
BEGIN:STANDARD
TZOFFSETFROM:-0400
TZOFFSETTO:-0500
TZNAME:EST
DTSTART:20231105T060000
END:STANDARD
END:VTIMEZONE
BEGIN:VEVENT
DTSTART;VALUE=DATE:20230821
DTEND;VALUE=DATE:20230828
DTSTAMP:20260425T081639
CREATED:20220929T143008Z
LAST-MODIFIED:20230806T203627Z
UID:3815-1692576000-1693180799@www.districtsixbridge.org
SUMMARY:Baltimore Summer Regional
DESCRIPTION:Welcome back to Baltimore\nRoss and I welcome you to the District 6 regional in Baltimore for our second year! We hope you have a rewarding and enjoyable time. If you have any questions or requests\, just ask and we will do our best to help. You can reach us by email or cell.      Marty Bley \nBaltimore Online Events for Website \nBaltimore-Website-Parking \nBulletin Baltimore 2023 FINAL \nHow-to-register-to-an-ACBL-Online-Regional-BBO-News-For-Posting
URL:https://www.districtsixbridge.org/tournament/baltimore-summer-regional-2/
LOCATION:Baltimore Inner Harbor Hilton
CATEGORIES:Regionals
END:VEVENT
END:VCALENDAR