BEGIN:VCALENDAR
VERSION:2.0
PRODID:-//District Six Bridge - ECPv6.9.0//NONSGML v1.0//EN
CALSCALE:GREGORIAN
METHOD:PUBLISH
X-ORIGINAL-URL:https://www.districtsixbridge.org
X-WR-CALDESC:Events for District Six Bridge
REFRESH-INTERVAL;VALUE=DURATION:PT1H
X-Robots-Tag:noindex
X-PUBLISHED-TTL:PT1H
BEGIN:VTIMEZONE
TZID:America/New_York
BEGIN:DAYLIGHT
TZOFFSETFROM:-0500
TZOFFSETTO:-0400
TZNAME:EDT
DTSTART:20230312T070000
END:DAYLIGHT
BEGIN:STANDARD
TZOFFSETFROM:-0400
TZOFFSETTO:-0500
TZNAME:EST
DTSTART:20231105T060000
END:STANDARD
END:VTIMEZONE
BEGIN:VEVENT
DTSTART;VALUE=DATE:20230803
DTEND;VALUE=DATE:20230807
DTSTAMP:20260425T081648
CREATED:20230113T212305Z
LAST-MODIFIED:20230113T221155Z
UID:3996-1691020800-1691366399@www.districtsixbridge.org
SUMMARY:91st Annual DC Championship Sectional
DESCRIPTION:
URL:https://www.districtsixbridge.org/tournament/92nd-annual-dc-championship-sectional/
LOCATION:VA
CATEGORIES:Sectionals
END:VEVENT
END:VCALENDAR